Workbook

Sheet труба_профильная
A1: ООО «СтройОптТоргСервис» | K1: ВНИМАНИЕ! Уважаемые покупатели, цены действительны при оплате наличными или по СБП, при оплате картой стоимость увеличивается на 2,5%
A2: г.Самара, ул.Береговая, 3
A3: Тел.: (846)955-05-00, 955-09-46, 8-917-157-81-78, 8-917-157-81-76
A4: E-mail: sots63@yandex.ru www.sots-samara.com
A6: Диаметр | B6: Длина | C6: Цена | D6: Цена | E6: Цена | F6: Цена | G6: Цена | I6: Диаметр | J6: Длина | K6: Цена | L6: Цена | M6: Цена | N6: Цена | O6: Цена
A7: мм | B7: метр | C7: розница | D7: 0,5тн-1т | E7: 1тн-2тн | F7: от 2тн | G7: м/п | I7: мм | J7: метр | K7: розница | L7: 0,5тн-1т | M7: 1тн-2тн | N7: от 2тн | O7: м/п
A8: Трубы профильные ГОСТ 8639-82, 8645-68 | I8: Трубы профильные ГОСТ 8639-82, 8645-68
A9: =[1]Расчет_металла!X93 -> 10*10*1 | B9: =[1]Расчет_металла!Y93 -> 6 | C9: =[1]Расчет_металла!Z93 -> 99800 | D9: =IF(ISNUMBER(C9),C9-500,"") -> 99300 | E9: =IF(ISNUMBER(C9),C9-1300,"") -> 98500 | F9: =IF(ISNUMBER(C9),C9-2400,"") -> 97400 | G9: =[1]Расчет_металла!AD93 -> 26.613333 | I9: =[1]Расчет_металла!X156 -> 60*30*1,5 | J9: =[1]Расчет_металла!Y156 -> 6 | K9: =[1]Расчет_металла!Z156 -> 82200 | L9: =IF(ISNUMBER(K9),K9-500,"") -> 81700 | M9: =IF(ISNUMBER(K9),K9-1300,"") -> 80900 | N9: =IF(ISNUMBER(K9),K9-2400,"") -> 79800 | O9: =[1]Расчет_металла!AD156 -> 165.77
A10: =[1]Расчет_металла!X94 -> 10*10*1,2 | B10: =[1]Расчет_металла!Y94 -> 6 | C10: =[1]Расчет_металла!Z94 -> 99800 | D10: =IF(ISNUMBER(C10),C10-500,"") -> 99300 | E10: =IF(ISNUMBER(C10),C10-1300,"") -> 98500 | F10: =IF(ISNUMBER(C10),C10-2400,"") -> 97400 | G10: =[1]Расчет_металла!AD94 -> 31.603333 | I10: =[1]Расчет_металла!X157 -> 60*30*2 | J10: =[1]Расчет_металла!Y157 -> 6 | K10: =[1]Расчет_металла!Z157 -> 77700 | L10: =IF(ISNUMBER(K10),K10-500,"") -> 77200 | M10: =IF(ISNUMBER(K10),K10-1300,"") -> 76400 | N10: =IF(ISNUMBER(K10),K10-2400,"") -> 75300 | O10: =[1]Расчет_металла!AD157 -> 205.905
A11: =[1]Расчет_металла!X95 -> 15*15*1,2 | B11: =[1]Расчет_металла!Y95 -> 6 | C11: =[1]Расчет_металла!Z95 -> 91900 | D11: =IF(ISNUMBER(C11),C11-500,"") -> 91400 | E11: =IF(ISNUMBER(C11),C11-1300,"") -> 90600 | F11: =IF(ISNUMBER(C11),C11-2400,"") -> 89500 | G11: =[1]Расчет_металла!AD95 -> 45.95 | I11: =[1]Расчет_металла!X158 -> 60*30*3 | J11: =[1]Расчет_металла!Y158 -> 6 | K11: =[1]Расчет_металла!Z158 -> 71500 | L11: =IF(ISNUMBER(K11),K11-500,"") -> 71000 | M11: =IF(ISNUMBER(K11),K11-1300,"") -> 70200 | N11: =IF(ISNUMBER(K11),K11-2400,"") -> 69100 | O11: =[1]Расчет_металла!AD158 -> 274.08333
A12: =[1]Расчет_металла!X96 -> 15*15*1,5 | B12: =[1]Расчет_металла!Y96 -> 6 | C12: =[1]Расчет_металла!Z96 -> 84500 | D12: =IF(ISNUMBER(C12),C12-500,"") -> 84000 | E12: =IF(ISNUMBER(C12),C12-1300,"") -> 83200 | F12: =IF(ISNUMBER(C12),C12-2400,"") -> 82100 | G12: =[1]Расчет_металла!AD96 -> 50.7 | I12: =[1]Расчет_металла!X159 -> 60*30*4 | J12: =[1]Расчет_металла!Y159 -> 6 | K12: =[1]Расчет_металла!Z159 -> 72700 | L12: =IF(ISNUMBER(K12),K12-500,"") -> 72200 | M12: =IF(ISNUMBER(K12),K12-1300,"") -> 71400 | N12: =IF(ISNUMBER(K12),K12-2400,"") -> 70300 | O12: =[1]Расчет_металла!AD159 -> 358.65333
A13: =[1]Расчет_металла!X97 -> 15*15*2 | B13: =[1]Расчет_металла!Y97 -> 6 | C13: =[1]Расчет_металла!Z97 | D13: =IF(ISNUMBER(C13),C13-500,"") | E13: =IF(ISNUMBER(C13),C13-1300,"") | F13: =IF(ISNUMBER(C13),C13-2400,"") | G13: =[1]Расчет_металла!AD97 | I13: =[1]Расчет_металла!X160 -> 60*40*1,5 | J13: =[1]Расчет_металла!Y160 -> 6 | K13: =[1]Расчет_металла!Z160 -> 88700 | L13: =IF(ISNUMBER(K13),K13-500,"") -> 88200 | M13: =IF(ISNUMBER(K13),K13-1300,"") -> 87400 | N13: =IF(ISNUMBER(K13),K13-2400,"") -> 86300 | O13: =[1]Расчет_металла!AD160 -> 199.575
A14: =[1]Расчет_металла!X98 -> 20*10*1,2 | B14: =[1]Расчет_металла!Y98 -> 6 | C14: =[1]Расчет_металла!Z98 -> 89800 | D14: =IF(ISNUMBER(C14),C14-500,"") -> 89300 | E14: =IF(ISNUMBER(C14),C14-1300,"") -> 88500 | F14: =IF(ISNUMBER(C14),C14-2400,"") -> 87400 | G14: =[1]Расчет_металла!AD98 -> 44.9 | I14: =[1]Расчет_металла!X161 -> 60*40*2 | J14: =[1]Расчет_металла!Y161 -> 6 | K14: =[1]Расчет_металла!Z161 -> 77600 | L14: =IF(ISNUMBER(K14),K14-500,"") -> 77100 | M14: =IF(ISNUMBER(K14),K14-1300,"") -> 76300 | N14: =IF(ISNUMBER(K14),K14-2400,"") -> 75200 | O14: =[1]Расчет_металла!AD161 -> 230.21333
A15: =[1]Расчет_металла!X99 -> ОЦИН_20*20*1,2 | B15: =[1]Расчет_металла!Y99 -> 6 | C15: =[1]Расчет_металла!Z99 | D15: =IF(ISNUMBER(C15),C15-500,"") | E15: =IF(ISNUMBER(C15),C15-1300,"") | F15: =IF(ISNUMBER(C15),C15-2400,"") | G15: =[1]Расчет_металла!AD99 | I15: =[1]Расчет_металла!X162 -> 60*40*3 | J15: =[1]Расчет_металла!Y162 -> 6 | K15: =[1]Расчет_металла!Z162 -> 71500 | L15: =IF(ISNUMBER(K15),K15-500,"") -> 71000 | M15: =IF(ISNUMBER(K15),K15-1300,"") -> 70200 | N15: =IF(ISNUMBER(K15),K15-2400,"") -> 69100 | O15: =[1]Расчет_металла!AD162 -> 307.45
A16: =[1]Расчет_металла!X100 -> 20*20*1,2 | B16: =[1]Расчет_металла!Y100 -> 6 | C16: =[1]Расчет_металла!Z100 -> 91900 | D16: =IF(ISNUMBER(C16),C16-500,"") -> 91400 | E16: =IF(ISNUMBER(C16),C16-1300,"") -> 90600 | F16: =IF(ISNUMBER(C16),C16-2400,"") -> 89500 | G16: =[1]Расчет_металла!AD100 -> 62.798333 | I16: =[1]Расчет_металла!X163 -> 60*40*4 | J16: =[1]Расчет_металла!Y163 -> 6 | K16: =[1]Расчет_металла!Z163 -> 71500 | L16: =IF(ISNUMBER(K16),K16-500,"") -> 71000 | M16: =IF(ISNUMBER(K16),K16-1300,"") -> 70200 | N16: =IF(ISNUMBER(K16),K16-2400,"") -> 69100 | O16: =[1]Расчет_металла!AD163 -> 398.01667
A17: =[1]Расчет_металла!X101 -> 20*20*1,5 | B17: =[1]Расчет_металла!Y101 -> 6 | C17: =[1]Расчет_металла!Z101 -> 81300 | D17: =IF(ISNUMBER(C17),C17-500,"") -> 80800 | E17: =IF(ISNUMBER(C17),C17-1300,"") -> 80000 | F17: =IF(ISNUMBER(C17),C17-2400,"") -> 78900 | G17: =[1]Расчет_металла!AD101 -> 69.105 | I17: =[1]Расчет_металла!X164 -> 60*60*1,5 | J17: =[1]Расчет_металла!Y164 -> 6 | K17: =[1]Расчет_металла!Z164 -> 85500 | L17: =IF(ISNUMBER(K17),K17-500,"") -> 85000 | M17: =IF(ISNUMBER(K17),K17-1300,"") -> 84200 | N17: =IF(ISNUMBER(K17),K17-2400,"") -> 83100 | O17: =[1]Расчет_металла!AD164 -> 232.275
A18: =[1]Расчет_металла!X102 -> 20*20*2 | B18: =[1]Расчет_металла!Y102 -> 6 | C18: =[1]Расчет_металла!Z102 -> 78400 | D18: =IF(ISNUMBER(C18),C18-500,"") -> 77900 | E18: =IF(ISNUMBER(C18),C18-1300,"") -> 77100 | F18: =IF(ISNUMBER(C18),C18-2400,"") -> 76000 | G18: =[1]Расчет_металла!AD102 -> 84.933333 | I18: =[1]Расчет_металла!X165 -> 60*60*2 | J18: =[1]Расчет_металла!Y165 -> 6 | K18: =[1]Расчет_металла!Z165 -> 77100 | L18: =IF(ISNUMBER(K18),K18-500,"") -> 76600 | M18: =IF(ISNUMBER(K18),K18-1300,"") -> 75800 | N18: =IF(ISNUMBER(K18),K18-2400,"") -> 74700 | O18: =[1]Расчет_металла!AD165 -> 276.275
A19: =[1]Расчет_металла!X103 -> 25*15*1,2 | B19: =[1]Расчет_металла!Y103 -> 6 | C19: =[1]Расчет_металла!Z103 -> 92800 | D19: =IF(ISNUMBER(C19),C19-500,"") -> 92300 | E19: =IF(ISNUMBER(C19),C19-1300,"") -> 91500 | F19: =IF(ISNUMBER(C19),C19-2400,"") -> 90400 | G19: =[1]Расчет_металла!AD103 -> 63.413333 | I19: =[1]Расчет_металла!X166 -> 60*60*3 | J19: =[1]Расчет_металла!Y166 -> 6 | K19: =[1]Расчет_металла!Z166 -> 71500 | L19: =IF(ISNUMBER(K19),K19-500,"") -> 71000 | M19: =IF(ISNUMBER(K19),K19-1300,"") -> 70200 | N19: =IF(ISNUMBER(K19),K19-2400,"") -> 69100 | O19: =[1]Расчет_металла!AD166 -> 375.375
A20: =[1]Расчет_металла!X104 -> 25*15*1,5 | B20: =[1]Расчет_металла!Y104 -> 6 | C20: =[1]Расчет_металла!Z104 | D20: =IF(ISNUMBER(C20),C20-500,"") | E20: =IF(ISNUMBER(C20),C20-1300,"") | F20: =IF(ISNUMBER(C20),C20-2400,"") | G20: =[1]Расчет_металла!AD104 | I20: =[1]Расчет_металла!X167 -> 60*60*4 | J20: =[1]Расчет_металла!Y167 -> 6 | K20: =[1]Расчет_металла!Z167 -> 72300 | L20: =IF(ISNUMBER(K20),K20-500,"") -> 71800 | M20: =IF(ISNUMBER(K20),K20-1300,"") -> 71000 | N20: =IF(ISNUMBER(K20),K20-2400,"") -> 69900 | O20: =[1]Расчет_металла!AD167 -> 492.845
... A62: =[1]Расчет_металла!X146 -> 50*25*1,5 | B62: =[1]Расчет_металла!Y146 -> 6 | C62: =[1]Расчет_металла!Z146 -> 81500 | D62: =IF(ISNUMBER(C62),C62-500,"") -> 81000 | E62: =IF(ISNUMBER(C62),C62-1300,"") -> 80200 | F62: =IF(ISNUMBER(C62),C62-2400,"") -> 79100 | G62: =[1]Расчет_металла!AD146 -> 135.83333 | I62: =[1]Расчет_металла!X209 -> 180*140*6 | J62: =[1]Расчет_металла!Y209 -> 6 | K62: =[1]Расчет_металла!Z209 | L62: =IF(ISNUMBER(K62),K62-500,"") | M62: =IF(ISNUMBER(K62),K62-1300,"") | N62: =IF(ISNUMBER(K62),K62-2400,"") | O62: =[1]Расчет_металла!AD209
A63: =[1]Расчет_металла!X147 -> 50*25*2 | B63: =[1]Расчет_металла!Y147 -> 6 | C63: =[1]Расчет_металла!Z147 -> 77600 | D63: =IF(ISNUMBER(C63),C63-500,"") -> 77100 | E63: =IF(ISNUMBER(C63),C63-1300,"") -> 76300 | F63: =IF(ISNUMBER(C63),C63-2400,"") -> 75200 | G63: =[1]Расчет_металла!AD147 -> 168.13333 | I63: 120*40*3,0 | L63: =IF(ISNUMBER(K63),K63-500,"") | M63: =IF(ISNUMBER(K63),K63-1300,"") | N63: =IF(ISNUMBER(K63),K63-2400,"")
A64: =[1]Расчет_металла!X148 -> 50*25*3 | B64: =[1]Расчет_металла!Y148 -> 6 | C64: =[1]Расчет_металла!Z148 -> 72700 | D64: =IF(ISNUMBER(C64),C64-500,"") -> 72200 | E64: =IF(ISNUMBER(C64),C64-1300,"") -> 71400 | F64: =IF(ISNUMBER(C64),C64-2400,"") -> 70300 | G64: =[1]Расчет_металла!AD148 -> 227.79333 | I64: 120*60*3,0 | J64: 6 | L64: =IF(ISNUMBER(K64),K64-500,"") | M64: =IF(ISNUMBER(K64),K64-1300,"") | N64: =IF(ISNUMBER(K64),K64-2400,"")
A65: =[1]Расчет_металла!X149 -> 50*30*1,2 | B65: =[1]Расчет_металла!Y149 -> 6 | C65: =[1]Расчет_металла!Z149 | D65: =IF(ISNUMBER(C65),C65-500,"") | E65: =IF(ISNUMBER(C65),C65-1300,"") | F65: =IF(ISNUMBER(C65),C65-2400,"") | G65: =[1]Расчет_металла!AD149 | I65: 120*60*4,0 | J65: 12 | L65: =IF(ISNUMBER(K65),K65-500,"") | M65: =IF(ISNUMBER(K65),K65-1300,"") | N65: =IF(ISNUMBER(K65),K65-2400,"")
A66: =[1]Расчет_металла!X150 -> 50*30*1,5 | B66: =[1]Расчет_металла!Y150 -> 6 | C66: =[1]Расчет_металла!Z150 | D66: =IF(ISNUMBER(C66),C66-500,"") | E66: =IF(ISNUMBER(C66),C66-1300,"") | F66: =IF(ISNUMBER(C66),C66-2400,"") | G66: =[1]Расчет_металла!AD150 | I66: 120*80*3,0 | J66: 12 | L66: =IF(ISNUMBER(K66),K66-500,"") | M66: =IF(ISNUMBER(K66),K66-1300,"") | N66: =IF(ISNUMBER(K66),K66-2400,"")
A67: =[1]Расчет_металла!X151 -> 50*30*2 | B67: =[1]Расчет_металла!Y151 -> 6 | C67: =[1]Расчет_металла!Z151 -> 77800 | D67: =IF(ISNUMBER(C67),C67-500,"") -> 77300 | E67: =IF(ISNUMBER(C67),C67-1300,"") -> 76500 | F67: =IF(ISNUMBER(C67),C67-2400,"") -> 75400 | G67: =[1]Расчет_металла!AD151 -> 180.23667 | I67: 120*80*4,0 | J67: 12 | L67: =IF(ISNUMBER(K67),K67-500,"") | M67: =IF(ISNUMBER(K67),K67-1300,"") | N67: =IF(ISNUMBER(K67),K67-2400,"")
A68: =[1]Расчет_металла!X152 -> 50*50*1,5 | B68: =[1]Расчет_металла!Y152 -> 6 10,5 | C68: =[1]Расчет_металла!Z152 -> 82200 | D68: =IF(ISNUMBER(C68),C68-500,"") -> 81700 | E68: =IF(ISNUMBER(C68),C68-1300,"") -> 80900 | F68: =IF(ISNUMBER(C68),C68-2400,"") -> 79800 | G68: =[1]Расчет_металла!AD152 -> 184.95 | I68: 120*120*2,5 | L68: =IF(ISNUMBER(K68),K68-500,"") | M68: =IF(ISNUMBER(K68),K68-1300,"") | N68: =IF(ISNUMBER(K68),K68-2400,"")
A69: =[1]Расчет_металла!X153 -> 50*50*2 | B69: =[1]Расчет_металла!Y153 -> 6 | C69: =[1]Расчет_металла!Z153 -> 77700 | D69: =IF(ISNUMBER(C69),C69-500,"") -> 77200 | E69: =IF(ISNUMBER(C69),C69-1300,"") -> 76400 | F69: =IF(ISNUMBER(C69),C69-2400,"") -> 75300 | G69: =[1]Расчет_металла!AD153 -> 230.51 | I69: 120*120*3,0 | J69: 12 | L69: =IF(ISNUMBER(K69),K69-500,"") | M69: =IF(ISNUMBER(K69),K69-1300,"") | N69: =IF(ISNUMBER(K69),K69-2400,"")
A70: =[1]Расчет_металла!X154 -> 50*50*3 | B70: =[1]Расчет_металла!Y154 -> 6 | C70: =[1]Расчет_металла!Z154 -> 71500 | D70: =IF(ISNUMBER(C70),C70-500,"") -> 71000 | E70: =IF(ISNUMBER(C70),C70-1300,"") -> 70200 | F70: =IF(ISNUMBER(C70),C70-2400,"") -> 69100 | G70: =[1]Расчет_металла!AD154 -> 308.64167 | I70: 120*120*4,0 | J70: 12 | L70: =IF(ISNUMBER(K70),K70-500,"") | M70: =IF(ISNUMBER(K70),K70-1300,"") | N70: =IF(ISNUMBER(K70),K70-2400,"")
A71: =[1]Расчет_металла!X155 -> 50*50*4 | B71: =[1]Расчет_металла!Y155 -> 6 | C71: =[1]Расчет_металла!Z155 -> 71500 | D71: =IF(ISNUMBER(C71),C71-500,"") -> 71000 | E71: =IF(ISNUMBER(C71),C71-1300,"") -> 70200 | F71: =IF(ISNUMBER(C71),C71-2400,"") -> 69100 | G71: =[1]Расчет_металла!AD155 -> 398.01667 | I71: 140*60*4,0 | L71: =IF(ISNUMBER(K71),K71-500,"") | M71: =IF(ISNUMBER(K71),K71-1300,"") | N71: =IF(ISNUMBER(K71),K71-2400,"")

Sheet труба_разная
A2: ООО «СтройОптТоргСервис» | K2: ВНИМАНИЕ! Уважаемые покупатели, цены действительны при оплате наличными или по СБП, при оплате картой стоимость увеличивается на 2,5%
A3: г.Самара, ул.Береговая, 3
A4: Тел.: (846)955-05-00, 955-09-46, 8-917-157-81-78, 8-917-157-81-76
A5: E-mail: sots63@yandex.ru www.sots-samara.com
A7: Диаметр | B7: Длина | C7: Цена | D7: Цена | E7: Цена | F7: Цена | G7: Цена | I7: Диаметр | J7: Длина | K7: Цена | L7: Цена | M7: Цена | N7: Цена | O7: Цена
A8: мм | B8: метр | C8: розница | D8: 0,5тн-1т | E8: 1тн-2тн | F8: от 2тн | G8: м/п | I8: мм | J8: метр | K8: розница | L8: 0,5тн-1т | M8: 1тн-2тн | N8: от 2тн | O8: м/п
A9: Трубы стальные эл.\св. ГОСТ 10704 10705 | I9: Трубы тонкостенные Гост 10704-91,10705-80
A10: =[1]Расчет_металла!X4 -> 57*2 | B10: =[1]Расчет_металла!Y4 -> 6 | C10: =[1]Расчет_металла!Z4 -> 79800 | D10: =IF(ISNUMBER(C10),C10-500,"") -> 79300 | E10: =IF(ISNUMBER(C10),C10-1300,"") -> 78500 | F10: =IF(ISNUMBER(C10),C10-2400,"") -> 77400 | G10: =[1]Расчет_металла!AD4 -> 216.79 | I10: =[1]Расчет_металла!X54 -> 10*0,8 | J10: =[1]Расчет_металла!Y54 -> 6 | K10: =[1]Расчет_металла!Z54 | L10: =IF(ISNUMBER(K10),K10-500,"") | M10: =IF(ISNUMBER(K10),K10-1300,"") | N10: =IF(ISNUMBER(K10),K10-2400,"") | O10: =[1]Расчет_металла!AD54
A11: =[1]Расчет_металла!X5 -> 57*3 | B11: =[1]Расчет_металла!Y5 -> 6 \ 11,4 \ 12 | C11: =[1]Расчет_металла!Z5 -> 72100 | D11: =IF(ISNUMBER(C11),C11-500,"") -> 71600 | E11: =IF(ISNUMBER(C11),C11-1300,"") -> 70800 | F11: =IF(ISNUMBER(C11),C11-2400,"") -> 69700 | G11: =[1]Расчет_металла!AD5 -> 288.4 | I11: =[1]Расчет_металла!X55 -> 10*1 | J11: =[1]Расчет_металла!Y55 -> 6 | K11: =[1]Расчет_металла!Z55 | L11: =IF(ISNUMBER(K11),K11-500,"") | M11: =IF(ISNUMBER(K11),K11-1300,"") | N11: =IF(ISNUMBER(K11),K11-2400,"") | O11: =[1]Расчет_металла!AD55
A12: =[1]Расчет_металла!X6 -> 57*3,5 | B12: =[1]Расчет_металла!Y6 -> 11,4 12 | C12: =[1]Расчет_металла!Z6 -> 72400 | D12: =IF(ISNUMBER(C12),C12-500,"") -> 71900 | E12: =IF(ISNUMBER(C12),C12-1300,"") -> 71100 | F12: =IF(ISNUMBER(C12),C12-2400,"") -> 70000 | G12: =[1]Расчет_металла!AD6 -> 334.69123 | I12: =[1]Расчет_металла!X56 -> 10*1,2 | J12: =[1]Расчет_металла!Y56 -> 6 | K12: =[1]Расчет_металла!Z56 -> 109500 | L12: =IF(ISNUMBER(K12),K12-500,"") -> 109000 | M12: =IF(ISNUMBER(K12),K12-1300,"") -> 108200 | N12: =IF(ISNUMBER(K12),K12-2400,"") -> 107100 | O12: =[1]Расчет_металла!AD56 -> 29.2
A13: =[1]Расчет_металла!X7 -> 57*4 | B13: =[1]Расчет_металла!Y7 -> 6 12 | C13: =[1]Расчет_металла!Z7 -> 72300 | D13: =IF(ISNUMBER(C13),C13-500,"") -> 71800 | E13: =IF(ISNUMBER(C13),C13-1300,"") -> 71000 | F13: =IF(ISNUMBER(C13),C13-2400,"") -> 69900 | G13: =[1]Расчет_металла!AD7 -> 378.37 | I13: =[1]Расчет_металла!X57 -> 12*1,2 | J13: =[1]Расчет_металла!Y57 -> 6 | K13: =[1]Расчет_металла!Z57 | L13: =IF(ISNUMBER(K13),K13-500,"") | M13: =IF(ISNUMBER(K13),K13-1300,"") | N13: =IF(ISNUMBER(K13),K13-2400,"") | O13: =[1]Расчет_металла!AD57
A14: =[1]Расчет_металла!X9 -> 76*3 | B14: =[1]Расчет_металла!Y9 -> 11,4 \12\ | C14: =[1]Расчет_металла!Z9 -> 72100 | D14: =IF(ISNUMBER(C14),C14-500,"") -> 71600 | E14: =IF(ISNUMBER(C14),C14-1300,"") -> 70800 | F14: =IF(ISNUMBER(C14),C14-2400,"") -> 69700 | G14: =[1]Расчет_металла!AD9 -> 389.59298 | I14: =[1]Расчет_металла!X58 -> 12*1,5 | J14: =[1]Расчет_металла!Y58 -> 5,8 | K14: =[1]Расчет_металла!Z58 | L14: =IF(ISNUMBER(K14),K14-500,"") | M14: =IF(ISNUMBER(K14),K14-1300,"") | N14: =IF(ISNUMBER(K14),K14-2400,"") | O14: =[1]Расчет_металла!AD58
A15: =[1]Расчет_металла!X10 -> 76*3,5 | B15: =[1]Расчет_металла!Y10 -> 11,4 12 | C15: =[1]Расчет_металла!Z10 -> 72200 | D15: =IF(ISNUMBER(C15),C15-500,"") -> 71700 | E15: =IF(ISNUMBER(C15),C15-1300,"") -> 70900 | F15: =IF(ISNUMBER(C15),C15-2400,"") -> 69800 | G15: =[1]Расчет_металла!AD10 -> 452.2 | I15: =[1]Расчет_металла!X59 -> 14*1,2 | J15: =[1]Расчет_металла!Y59 -> 6 | K15: =[1]Расчет_металла!Z59 -> 95400 | L15: =IF(ISNUMBER(K15),K15-500,"") -> 94900 | M15: =IF(ISNUMBER(K15),K15-1300,"") -> 94100 | N15: =IF(ISNUMBER(K15),K15-2400,"") -> 93000 | O15: =[1]Расчет_металла!AD59 -> 36.57
A16: =[1]Расчет_металла!X11 -> 76*4 | B16: =[1]Расчет_металла!Y11 -> 12 | C16: =[1]Расчет_металла!Z11 -> 72900 | D16: =IF(ISNUMBER(C16),C16-500,"") -> 72400 | E16: =IF(ISNUMBER(C16),C16-1300,"") -> 71600 | F16: =IF(ISNUMBER(C16),C16-2400,"") -> 70500 | G16: =[1]Расчет_металла!AD11 -> 517.59 | I16: =[1]Расчет_металла!X60 -> 14*1,5 | J16: =[1]Расчет_металла!Y60 -> 6 | K16: =[1]Расчет_металла!Z60 -> 89900 | L16: =IF(ISNUMBER(K16),K16-500,"") -> 89400 | M16: =IF(ISNUMBER(K16),K16-1300,"") -> 88600 | N16: =IF(ISNUMBER(K16),K16-2400,"") -> 87500 | O16: =[1]Расчет_металла!AD60 -> 41.953333
A17: =[1]Расчет_металла!X12 -> 89*2 | B17: =[1]Расчет_металла!Y12 -> 10,5 12 | C17: =[1]Расчет_металла!Z12 | D17: =IF(ISNUMBER(C17),C17-500,"") | E17: =IF(ISNUMBER(C17),C17-1300,"") | F17: =IF(ISNUMBER(C17),C17-2400,"") | G17: =[1]Расчет_металла!AD12 | I17: =[1]Расчет_металла!X61 -> 16*1,2 | J17: =[1]Расчет_металла!Y61 -> 6 | K17: =[1]Расчет_металла!Z61 -> 89900 | L17: =IF(ISNUMBER(K17),K17-500,"") -> 89400 | M17: =IF(ISNUMBER(K17),K17-1300,"") -> 88600 | N17: =IF(ISNUMBER(K17),K17-2400,"") -> 87500 | O17: =[1]Расчет_металла!AD61 -> 38.956667
A18: =[1]Расчет_металла!X13 -> 89*3 | B18: =[1]Расчет_металла!Y13 -> 11,4 12 | C18: =[1]Расчет_металла!Z13 -> 74900 | D18: =IF(ISNUMBER(C18),C18-500,"") -> 74400 | E18: =IF(ISNUMBER(C18),C18-1300,"") -> 73600 | F18: =IF(ISNUMBER(C18),C18-2400,"") -> 72500 | G18: =[1]Расчет_металла!AD13 -> 476.33772 | I18: =[1]Расчет_металла!X62 -> 16*1,5 | J18: =[1]Расчет_металла!Y62 -> 6 | K18: =[1]Расчет_металла!Z62 -> 89900 | L18: =IF(ISNUMBER(K18),K18-500,"") -> 89400 | M18: =IF(ISNUMBER(K18),K18-1300,"") -> 88600 | N18: =IF(ISNUMBER(K18),K18-2400,"") -> 87500 | O18: =[1]Расчет_металла!AD62 -> 47.946667
A19: =[1]Расчет_металла!X14 -> 89*3,5 | B19: =[1]Расчет_металла!Y14 -> 11,03 11,4 12 | C19: =[1]Расчет_металла!Z14 -> 72400 | D19: =IF(ISNUMBER(C19),C19-500,"") -> 71900 | E19: =IF(ISNUMBER(C19),C19-1300,"") -> 71100 | F19: =IF(ISNUMBER(C19),C19-2400,"") -> 70000 | G19: =[1]Расчет_металла!AD14 -> 534.30281 | I19: =[1]Расчет_металла!X63 -> 18*1,2 | J19: =[1]Расчет_металла!Y63 -> 6 | K19: =[1]Расчет_металла!Z63 -> 89800 | L19: =IF(ISNUMBER(K19),K19-500,"") -> 89300 | M19: =IF(ISNUMBER(K19),K19-1300,"") -> 88500 | N19: =IF(ISNUMBER(K19),K19-2400,"") -> 87400 | O19: =[1]Расчет_металла!AD63 -> 46.396667
A20: =[1]Расчет_металла!X15 -> 89*4 | B20: =[1]Расчет_металла!Y15 -> 11,4 12 | C20: =[1]Расчет_металла!Z15 -> 72300 | D20: =IF(ISNUMBER(C20),C20-500,"") -> 71800 | E20: =IF(ISNUMBER(C20),C20-1300,"") -> 71000 | F20: =IF(ISNUMBER(C20),C20-2400,"") -> 69900 | G20: =[1]Расчет_металла!AD15 -> 605.67105 | I20: =[1]Расчет_металла!X64 -> 18*1,5 | J20: =[1]Расчет_металла!Y64 -> 6 | K20: =[1]Расчет_металла!Z64 -> 91500 | L20: =IF(ISNUMBER(K20),K20-500,"") -> 91000 | M20: =IF(ISNUMBER(K20),K20-1300,"") -> 90200 | N20: =IF(ISNUMBER(K20),K20-2400,"") -> 89100 | O20: =[1]Расчет_металла!AD64 -> 56.425
A21: =[1]Расчет_металла!X16 -> 102*3 | B21: =[1]Расчет_металла!Y16 -> 11 12 | C21: =[1]Расчет_металла!Z16 | D21: =IF(ISNUMBER(C21),C21-500,"") | E21: =IF(ISNUMBER(C21),C21-1300,"") | F21: =IF(ISNUMBER(C21),C21-2400,"") | G21: =[1]Расчет_металла!AD16 | I21: =[1]Расчет_металла!X65 -> 20*1 | J21: =[1]Расчет_металла!Y65 -> 6 | K21: =[1]Расчет_металла!Z65 | L21: =IF(ISNUMBER(K21),K21-500,"") | M21: =IF(ISNUMBER(K21),K21-1300,"") | N21: =IF(ISNUMBER(K21),K21-2400,"") | O21: =[1]Расчет_металла!AD65
A22: =[1]Расчет_металла!X17 -> 102*3,5 | B22: =[1]Расчет_металла!Y17 -> 11,4 \ 12 | C22: =[1]Расчет_металла!Z17 -> 72400 | D22: =IF(ISNUMBER(C22),C22-500,"") -> 71900 | E22: =IF(ISNUMBER(C22),C22-1300,"") -> 71100 | F22: =IF(ISNUMBER(C22),C22-2400,"") -> 70000 | G22: =[1]Расчет_металла!AD17 -> 615.4 | I22: =[1]Расчет_металла!X66 -> 20*1,2 | J22: =[1]Расчет_металла!Y66 -> 6 | K22: =[1]Расчет_металла!Z66 -> 89900 | L22: =IF(ISNUMBER(K22),K22-500,"") -> 89400 | M22: =IF(ISNUMBER(K22),K22-1300,"") -> 88600 | N22: =IF(ISNUMBER(K22),K22-2400,"") -> 87500 | O22: =[1]Расчет_металла!AD66 -> 50.943333
A23: =[1]Расчет_металла!X18 -> 102*4 | B23: =[1]Расчет_металла!Y18 -> 12 12 | C23: =[1]Расчет_металла!Z18 | D23: =IF(ISNUMBER(C23),C23-500,"") | E23: =IF(ISNUMBER(C23),C23-1300,"") | F23: =IF(ISNUMBER(C23),C23-2400,"") | G23: =[1]Расчет_металла!AD18 | I23: =[1]Расчет_металла!X67 -> 20*1,5 | J23: =[1]Расчет_металла!Y67 -> 6 | K23: =[1]Расчет_металла!Z67 -> 89900 | L23: =IF(ISNUMBER(K23),K23-500,"") -> 89400 | M23: =IF(ISNUMBER(K23),K23-1300,"") -> 88600 | N23: =IF(ISNUMBER(K23),K23-2400,"") -> 87500 | O23: =[1]Расчет_металла!AD67 -> 61.431667
A24: =[1]Расчет_металла!X19 -> 108*3 | B24: =[1]Расчет_металла!Y19 -> 11,4 \12 | C24: =[1]Расчет_металла!Z19 -> 73100 | D24: =IF(ISNUMBER(C24),C24-500,"") -> 72600 | E24: =IF(ISNUMBER(C24),C24-1300,"") -> 71800 | F24: =IF(ISNUMBER(C24),C24-2400,"") -> 70700 | G24: =[1]Расчет_металла!AD19 -> 568.12807 | I24: =[1]Расчет_металла!X68 -> 22*1,2 | J24: =[1]Расчет_металла!Y68 -> 6 | K24: =[1]Расчет_металла!Z68 -> 94100 | L24: =IF(ISNUMBER(K24),K24-500,"") -> 93600 | M24: =IF(ISNUMBER(K24),K24-1300,"") -> 92800 | N24: =IF(ISNUMBER(K24),K24-2400,"") -> 91700 | O24: =[1]Расчет_металла!AD68 -> 58.028333
A25: =[1]Расчет_металла!X20 -> 108*3,5 | B25: =[1]Расчет_металла!Y20 -> 11,4 12 | C25: =[1]Расчет_металла!Z20 -> 72400 | D25: =IF(ISNUMBER(C25),C25-500,"") -> 71900 | E25: =IF(ISNUMBER(C25),C25-1300,"") -> 71100 | F25: =IF(ISNUMBER(C25),C25-2400,"") -> 70000 | G25: =[1]Расчет_металла!AD20 -> 652.87018 | I25: =[1]Расчет_металла!X69 -> 22*1,5 | J25: =[1]Расчет_металла!Y69 -> 6 | K25: =[1]Расчет_металла!Z69 -> 91800 | L25: =IF(ISNUMBER(K25),K25-500,"") -> 91300 | M25: =IF(ISNUMBER(K25),K25-1300,"") -> 90500 | N25: =IF(ISNUMBER(K25),K25-2400,"") -> 89400 | O25: =[1]Расчет_металла!AD69 -> 68.85
... A41: =[1]Расчет_металла!X36 -> 219*6 | B41: =[1]Расчет_металла!Y36 -> 12 \ | C41: =[1]Расчет_металла!Z36 -> 76700 | D41: =IF(ISNUMBER(C41),C41-500,"") -> 76200 | E41: =IF(ISNUMBER(C41),C41-1300,"") -> 75400 | F41: =IF(ISNUMBER(C41),C41-2400,"") -> 74300 | G41: =[1]Расчет_металла!AD36 -> 2417.3283 | I41: =[1]Расчет_металла!X85 -> 51*1,2 | J41: =[1]Расчет_металла!Y85 -> 6 | K41: =[1]Расчет_металла!Z85 | L41: =IF(ISNUMBER(K41),K41-500,"") | M41: =IF(ISNUMBER(K41),K41-1300,"") | N41: =IF(ISNUMBER(K41),K41-2400,"") | O41: =[1]Расчет_металла!AD85
I42: =[1]Расчет_металла!X86 -> 51*1,5 | J42: =[1]Расчет_металла!Y86 -> 6 | K42: =[1]Расчет_металла!Z86 -> 89900 | L42: =IF(ISNUMBER(K42),K42-500,"") -> 89400 | M42: =IF(ISNUMBER(K42),K42-1300,"") -> 88600 | N42: =IF(ISNUMBER(K42),K42-2400,"") -> 87500 | O42: =[1]Расчет_металла!AD86 -> 164.81667
I43: =[1]Расчет_металла!X87 -> 51*2 | J43: =[1]Расчет_металла!Y87 -> 6 | K43: =[1]Расчет_металла!Z87 -> 79900 | L43: =IF(ISNUMBER(K43),K43-500,"") -> 79400 | M43: =IF(ISNUMBER(K43),K43-1300,"") -> 78600 | N43: =IF(ISNUMBER(K43),K43-2400,"") -> 77500 | O43: =[1]Расчет_металла!AD87 -> 194.42333
I44: =[1]Расчет_металла!X88 -> 60*2 | J44: =[1]Расчет_металла!Y88 -> 6 | K44: =[1]Расчет_металла!Z88 | L44: =IF(ISNUMBER(K44),K44-500,"") | M44: =IF(ISNUMBER(K44),K44-1300,"") | N44: =IF(ISNUMBER(K44),K44-2400,"") | O44: =[1]Расчет_металла!AD88
A45: Трубы стальные ВГП (водогазопроводные) ГОСТ 3262-75 | I45: =[1]Расчет_металла!X89 -> 63,5*1,5 | J45: =[1]Расчет_металла!Y89 -> 6 | K45: =[1]Расчет_металла!Z89 | L45: =IF(ISNUMBER(K45),K45-500,"") | M45: =IF(ISNUMBER(K45),K45-1300,"") | N45: =IF(ISNUMBER(K45),K45-2400,"") | O45: =[1]Расчет_металла!AD89
A46: =[1]Расчет_металла!X40 -> 15 (½)*2,8 | B46: =[1]Расчет_металла!Y40 -> 6 | C46: =[1]Расчет_металла!Z40 -> 75100 | D46: =IF(ISNUMBER(C46),C46-500,"") -> 74600 | E46: =IF(ISNUMBER(C46),C46-1300,"") -> 73800 | F46: =IF(ISNUMBER(C46),C46-2400,"") -> 72700 | G46: =[1]Расчет_металла!AD40 -> 96.378333
A47: =[1]Расчет_металла!X41 -> 20 (¾)*2,8 | B47: =[1]Расчет_металла!Y41 -> 6 | C47: =[1]Расчет_металла!Z41 -> 74900 | D47: =IF(ISNUMBER(C47),C47-500,"") -> 74400 | E47: =IF(ISNUMBER(C47),C47-1300,"") -> 73600 | F47: =IF(ISNUMBER(C47),C47-2400,"") -> 72500 | G47: =[1]Расчет_металла!AD41 -> 124.83333 | I47: Диаметр | J47: Длина | K47: Цена | L47: Цена | M47: Цена | N47: Цена | O47: Цена
A48: =[1]Расчет_металла!X42 -> 25 (дюйм)*2 | B48: =[1]Расчет_металла!Y42 -> 6 | C48: =[1]Расчет_металла!Z42 | D48: =IF(ISNUMBER(C48),C48-500,"") | E48: =IF(ISNUMBER(C48),C48-1300,"") | F48: =IF(ISNUMBER(C48),C48-2400,"") | G48: =[1]Расчет_металла!AD42 | I48: мм | J48: метр | K48: розница | L48: 0,5тн-1т | M48: 1тн-2тн | N48: от 2тн | O48: м/п
A49: =[1]Расчет_металла!X43 -> 25 (дюйм)*2,8 | B49: =[1]Расчет_металла!Y43 -> 6 | C49: =[1]Расчет_металла!Z43 -> 73900 | D49: =IF(ISNUMBER(C49),C49-500,"") -> 73400 | E49: =IF(ISNUMBER(C49),C49-1300,"") -> 72600 | F49: =IF(ISNUMBER(C49),C49-2400,"") -> 71500 | G49: =[1]Расчет_металла!AD43 -> 157.65333 | I49: Уголок г\к ГОСТ 8509-93
A50: =[1]Расчет_металла!X44 -> 25 (дюйм)*3,2 | B50: =[1]Расчет_металла!Y44 -> 6 | C50: =[1]Расчет_металла!Z44 -> 73900 | D50: =IF(ISNUMBER(C50),C50-500,"") -> 73400 | E50: =IF(ISNUMBER(C50),C50-1300,"") -> 72600 | F50: =IF(ISNUMBER(C50),C50-2400,"") -> 71500 | G50: =[1]Расчет_металла!AD44 -> 177.36 | I50: =[1]Лист1!Y14 -> 25*25*3 | J50: =[1]Лист1!Z14 -> 6 | K50: =[1]Лист1!AA14 -> 103900 | L50: =IF(ISNUMBER(K50),K50-500,"") -> 103400 | M50: =IF(ISNUMBER(K50),K50-1300,"") -> 102600 | N50: =IF(ISNUMBER(K50),K50-2400,"") -> 101500 | O50: =[1]Лист1!AE14 -> 126.41167
A51: =[1]Расчет_металла!X45 -> 32(1 ¼ )*2,8 | B51: =[1]Расчет_металла!Y45 -> 6 | C51: =[1]Расчет_металла!Z45 -> 73900 | D51: =IF(ISNUMBER(C51),C51-500,"") -> 73400 | E51: =IF(ISNUMBER(C51),C51-1300,"") -> 72600 | F51: =IF(ISNUMBER(C51),C51-2400,"") -> 71500 | G51: =[1]Расчет_металла!AD45 -> 201.99333 | I51: =[1]Лист1!Y15 -> 25*25*4 | J51: =[1]Лист1!Z15 -> 6 | K51: =[1]Лист1!AA15 -> 101500 | L51: =IF(ISNUMBER(K51),K51-500,"") -> 101000 | M51: =IF(ISNUMBER(K51),K51-1300,"") -> 100200 | N51: =IF(ISNUMBER(K51),K51-2400,"") -> 99100 | O51: =[1]Лист1!AE15 -> 148.86667
A52: =[1]Расчет_металла!X46 -> 32(1 ¼ )*3,2 | B52: =[1]Расчет_металла!Y46 -> 6 | C52: =[1]Расчет_металла!Z46 -> 73900 | D52: =IF(ISNUMBER(C52),C52-500,"") -> 73400 | E52: =IF(ISNUMBER(C52),C52-1300,"") -> 72600 | F52: =IF(ISNUMBER(C52),C52-2400,"") -> 71500 | G52: =[1]Расчет_металла!AD46 -> 227.85833 | I52: =[1]Лист1!Y16 -> 32*32*3 | J52: =[1]Лист1!Z16 -> 6 | K52: =[1]Лист1!AA16 -> 100300 | L52: =IF(ISNUMBER(K52),K52-500,"") -> 99800 | M52: =IF(ISNUMBER(K52),K52-1300,"") -> 99000 | N52: =IF(ISNUMBER(K52),K52-2400,"") -> 97900 | O52: =[1]Лист1!AE16 -> 160.48
A53: =[1]Расчет_металла!X47 -> 40(1,5)*3 | B53: =[1]Расчет_металла!Y47 -> 6 | C53: =[1]Расчет_металла!Z47 -> 73900 | D53: =IF(ISNUMBER(C53),C53-500,"") -> 73400 | E53: =IF(ISNUMBER(C53),C53-1300,"") -> 72600 | F53: =IF(ISNUMBER(C53),C53-2400,"") -> 71500 | G53: =[1]Расчет_металла!AD47 -> 246.33333 | I53: =[1]Лист1!Y17 -> 32*32*4 | J53: =[1]Лист1!Z17 -> 6 | K53: =[1]Лист1!AA17 -> 103900 | L53: =IF(ISNUMBER(K53),K53-500,"") -> 103400 | M53: =IF(ISNUMBER(K53),K53-1300,"") -> 102600 | N53: =IF(ISNUMBER(K53),K53-2400,"") -> 101500 | O53: =[1]Лист1!AE17 -> 199.14167
A54: =[1]Расчет_металла!X48 -> 40(1,5)*3,5 | B54: =[1]Расчет_металла!Y48 -> 6 \ 10,5 | C54: =[1]Расчет_металла!Z48 -> 73900 | D54: =IF(ISNUMBER(C54),C54-500,"") -> 73400 | E54: =IF(ISNUMBER(C54),C54-1300,"") -> 72600 | F54: =IF(ISNUMBER(C54),C54-2400,"") -> 71500 | G54: =[1]Расчет_металла!AD48 -> 283.28333 | I54: =[1]Лист1!Y18 -> 35*35*3 | J54: =[1]Лист1!Z18 -> 6 | K54: =[1]Лист1!AA18 -> 103900 | L54: =IF(ISNUMBER(K54),K54-500,"") -> 103400 | M54: =IF(ISNUMBER(K54),K54-1300,"") -> 102600 | N54: =IF(ISNUMBER(K54),K54-2400,"") -> 101500 | O54: =[1]Лист1!AE18 -> 173.16667
A55: =[1]Расчет_металла!X49 -> 50(2 дюйма)*3 | B55: =[1]Расчет_металла!Y49 -> 6 \ \ | C55: =[1]Расчет_металла!Z49 -> 73900 | D55: =IF(ISNUMBER(C55),C55-500,"") -> 73400 | E55: =IF(ISNUMBER(C55),C55-1300,"") -> 72600 | F55: =IF(ISNUMBER(C55),C55-2400,"") -> 71500 | G55: =[1]Расчет_металла!AD49 -> 311.61167 | I55: =[1]Лист1!Y19 -> 35*35*4 | J55: =[1]Лист1!Z19 -> 6 | K55: =[1]Лист1!AA19 -> 101500 | L55: =IF(ISNUMBER(K55),K55-500,"") -> 101000 | M55: =IF(ISNUMBER(K55),K55-1300,"") -> 100200 | N55: =IF(ISNUMBER(K55),K55-2400,"") -> 99100 | O55: =[1]Лист1!AE19 -> 224.99167
A56: =[1]Расчет_металла!X50 -> 50(2дюйма)*3,5 | B56: =[1]Расчет_металла!Y50 -> 6 \ | C56: =[1]Расчет_металла!Z50 -> 73900 | D56: =IF(ISNUMBER(C56),C56-500,"") -> 73400 | E56: =IF(ISNUMBER(C56),C56-1300,"") -> 72600 | F56: =IF(ISNUMBER(C56),C56-2400,"") -> 71500 | G56: =[1]Расчет_металла!AD50 -> 360.87833 | I56: =[1]Лист1!Y20 -> 40*40*3 | J56: =[1]Лист1!Z20 -> 6 \ 12 | K56: =[1]Лист1!AA20 -> 99400 | L56: =IF(ISNUMBER(K56),K56-500,"") -> 98900 | M56: =IF(ISNUMBER(K56),K56-1300,"") -> 98100 | N56: =IF(ISNUMBER(K56),K56-2400,"") -> 97000 | O56: =[1]Лист1!AE20 -> 207.08333
I57: =[1]Лист1!Y21 -> 40*40*4 | J57: =[1]Лист1!Z21 -> 6 \ 12 | K57: =[1]Лист1!AA21 -> 86900 | L57: =IF(ISNUMBER(K57),K57-500,"") -> 86400 | M57: =IF(ISNUMBER(K57),K57-1300,"") -> 85600 | N57: =IF(ISNUMBER(K57),K57-2400,"") -> 84500 | O57: =[1]Лист1!AE21 -> 227.38833
I58: =[1]Лист1!Y22 -> 45*45*4 | J58: =[1]Лист1!Z22 -> 11,7 \ 12 | K58: =[1]Лист1!AA22 -> 85300 | L58: =IF(ISNUMBER(K58),K58-500,"") -> 84800 | M58: =IF(ISNUMBER(K58),K58-1300,"") -> 84000 | N58: =IF(ISNUMBER(K58),K58-2400,"") -> 82900 | O58: =[1]Лист1!AE22 -> 241.3188
I59: =[1]Лист1!Y23 -> 50*50*4 | J59: =[1]Лист1!Z23 -> 6 \ 12 | K59: =[1]Лист1!AA23 -> 85200 | L59: =IF(ISNUMBER(K59),K59-500,"") -> 84700 | M59: =IF(ISNUMBER(K59),K59-1300,"") -> 83900 | N59: =IF(ISNUMBER(K59),K59-2400,"") -> 82800 | O59: =[1]Лист1!AE23 -> 265.54
A60: Трубы стальные ВГП оцинков. ГОСТ 3262-75 | I60: =[1]Лист1!Y24 -> 50*50*5 | J60: =[1]Лист1!Z24 -> 6 \ 9 \ 12 | K60: =[1]Лист1!AA24 -> 85200 | L60: =IF(ISNUMBER(K60),K60-500,"") -> 84700 | M60: =IF(ISNUMBER(K60),K60-1300,"") -> 83900 | N60: =IF(ISNUMBER(K60),K60-2400,"") -> 82800 | O60: =[1]Лист1!AE24 -> 326.6
A61: =[1]Расчет_металла!X213 -> 15*2,8 | B61: =[1]Расчет_металла!Y213 -> 6 7,85 | C61: =[1]Расчет_металла!Z213 -> 120900 | D61: =IF(ISNUMBER(C61),C61-500,"") -> 120400 | E61: =IF(ISNUMBER(C61),C61-1300,"") -> 119600 | F61: =IF(ISNUMBER(C61),C61-2400,"") -> 118500 | G61: =[1]Расчет_металла!AD213 -> 159.185 | I61: =[1]Лист1!Y25 -> 63*63*4 | J61: =[1]Лист1!Z25 -> 12 | K61: =[1]Лист1!AA25 -> 85100 | L61: =IF(ISNUMBER(K61),K61-500,"") -> 84600 | M61: =IF(ISNUMBER(K61),K61-1300,"") -> 83800 | N61: =IF(ISNUMBER(K61),K61-2400,"") -> 82700 | O61: =[1]Лист1!AE25 -> 331.89
A62: =[1]Расчет_металла!X214 -> 20*2,8 | B62: =[1]Расчет_металла!Y214 -> 6 7,8 | C62: =[1]Расчет_металла!Z214 -> 119800 | D62: =IF(ISNUMBER(C62),C62-500,"") -> 119300 | E62: =IF(ISNUMBER(C62),C62-1300,"") -> 118500 | F62: =IF(ISNUMBER(C62),C62-2400,"") -> 117400 | G62: =[1]Расчет_металла!AD214 -> 205.65667 | I62: =[1]Лист1!Y26 -> 63*63*5 | J62: =[1]Лист1!Z26 -> 12 | K62: =[1]Лист1!AA26 -> 85200 | L62: =IF(ISNUMBER(K62),K62-500,"") -> 84700 | M62: =IF(ISNUMBER(K62),K62-1300,"") -> 83900 | N62: =IF(ISNUMBER(K62),K62-2400,"") -> 82800 | O62: =[1]Лист1!AE26 -> 418.9
A63: =[1]Расчет_металла!X215 -> 25*2,8 | B63: =[1]Расчет_металла!Y215 -> 7,85 | C63: =[1]Расчет_металла!Z215 -> 117500 | D63: =IF(ISNUMBER(C63),C63-500,"") -> 117000 | E63: =IF(ISNUMBER(C63),C63-1300,"") -> 116200 | F63: =IF(ISNUMBER(C63),C63-2400,"") -> 115100 | G63: =[1]Расчет_металла!AD215 -> 257.45223 | I63: =[1]Лист1!Y27 -> 63*63*6 | J63: =[1]Лист1!Z27 -> 12 | K63: =[1]Лист1!AA27 -> 85200 | L63: =IF(ISNUMBER(K63),K63-500,"") -> 84700 | M63: =IF(ISNUMBER(K63),K63-1300,"") -> 83900 | N63: =IF(ISNUMBER(K63),K63-2400,"") -> 82800 | O63: =[1]Лист1!AE27 -> 489.9
A64: =[1]Расчет_металла!X216 -> 25*3,2 | B64: =[1]Расчет_металла!Y216 -> 6 | C64: =[1]Расчет_металла!Z216 -> 116500 | D64: =IF(ISNUMBER(C64),C64-500,"") -> 116000 | E64: =IF(ISNUMBER(C64),C64-1300,"") -> 115200 | F64: =IF(ISNUMBER(C64),C64-2400,"") -> 114100 | G64: =[1]Расчет_металла!AD216 -> 287.36667 | I64: =[1]Лист1!Y28 -> 75*75*5 | J64: =[1]Лист1!Z28 -> 12 | K64: =[1]Лист1!AA28 -> 85200 | L64: =IF(ISNUMBER(K64),K64-500,"") -> 84700 | M64: =IF(ISNUMBER(K64),K64-1300,"") -> 83900 | N64: =IF(ISNUMBER(K64),K64-2400,"") -> 82800 | O64: =[1]Лист1!AE28 -> 507.65
A65: =[1]Расчет_металла!X217 -> 32*2,8 | B65: =[1]Расчет_металла!Y217 -> 7,85 | C65: =[1]Расчет_металла!Z217 -> 117500 | D65: =IF(ISNUMBER(C65),C65-500,"") -> 117000 | E65: =IF(ISNUMBER(C65),C65-1300,"") -> 116200 | F65: =IF(ISNUMBER(C65),C65-2400,"") -> 115100 | G65: =[1]Расчет_металла!AD217 -> 330.79618 | I65: =[1]Лист1!Y29 -> 75*75*6 | J65: =[1]Лист1!Z29 -> 11,8 \ 12 | K65: =[1]Лист1!AA29 -> 85200 | L65: =IF(ISNUMBER(K65),K65-500,"") -> 84700 | M65: =IF(ISNUMBER(K65),K65-1300,"") -> 83900 | N65: =IF(ISNUMBER(K65),K65-2400,"") -> 82800 | O65: =[1]Лист1!AE29 -> 606.50847
A66: =[1]Расчет_металла!X218 -> 32*3,2 | B66: =[1]Расчет_металла!Y218 -> 6 | C66: =[1]Расчет_металла!Z218 -> 116500 | D66: =IF(ISNUMBER(C66),C66-500,"") -> 116000 | E66: =IF(ISNUMBER(C66),C66-1300,"") -> 115200 | F66: =IF(ISNUMBER(C66),C66-2400,"") -> 114100 | G66: =[1]Расчет_металла!AD218 -> 370.85833 | I66: =[1]Лист1!Y30 -> 80*80*6 | J66: =[1]Лист1!Z30 -> 11,7 \ 12 | K66: =[1]Лист1!AA30 -> 85200 | L66: =IF(ISNUMBER(K66),K66-500,"") -> 84700 | M66: =IF(ISNUMBER(K66),K66-1300,"") -> 83900 | N66: =IF(ISNUMBER(K66),K66-2400,"") -> 82800 | O66: =[1]Лист1!AE30 -> 626.98462
A67: =[1]Расчет_металла!X219 -> 40*3 | B67: =[1]Расчет_металла!Y219 -> 6 \ 7,85 | C67: =[1]Расчет_металла!Z219 -> 117500 | D67: =IF(ISNUMBER(C67),C67-500,"") -> 117000 | E67: =IF(ISNUMBER(C67),C67-1300,"") -> 116200 | F67: =IF(ISNUMBER(C67),C67-2400,"") -> 115100 | G67: =[1]Расчет_металла!AD219 -> 403.41667 | I67: =[1]Лист1!Y31 -> 90*90*6 | J67: =[1]Лист1!Z31 -> 12 | K67: =[1]Лист1!AA31 -> 85200 | L67: =IF(ISNUMBER(K67),K67-500,"") -> 84700 | M67: =IF(ISNUMBER(K67),K67-1300,"") -> 83900 | N67: =IF(ISNUMBER(K67),K67-2400,"") -> 82800 | O67: =[1]Лист1!AE31 -> 759.7
A68: =[1]Расчет_металла!X220 -> 40*3,5 | B68: =[1]Расчет_металла!Y220 -> 6 7,85 | C68: =[1]Расчет_металла!Z220 -> 116500 | D68: =IF(ISNUMBER(C68),C68-500,"") -> 116000 | E68: =IF(ISNUMBER(C68),C68-1300,"") -> 115200 | F68: =IF(ISNUMBER(C68),C68-2400,"") -> 114100 | G68: =[1]Расчет_металла!AD220 -> 462.11667 | I68: =[1]Лист1!Y32 -> 90*90*7 | J68: =[1]Лист1!Z32 -> 12 | K68: =[1]Лист1!AA32 -> 85200 | L68: =IF(ISNUMBER(K68),K68-500,"") -> 84700 | M68: =IF(ISNUMBER(K68),K68-1300,"") -> 83900 | N68: =IF(ISNUMBER(K68),K68-2400,"") -> 82800 | O68: =[1]Лист1!AE32 -> 821.47
A69: =[1]Расчет_металла!X221 -> 50*3 | B69: =[1]Расчет_металла!Y221 -> 7,85 | C69: =[1]Расчет_металла!Z221 -> 117500 | D69: =IF(ISNUMBER(C69),C69-500,"") -> 117000 | E69: =IF(ISNUMBER(C69),C69-1300,"") -> 116200 | F69: =IF(ISNUMBER(C69),C69-2400,"") -> 115100 | G69: =[1]Расчет_металла!AD221 -> 511.91083 | I69: =[1]Лист1!Y33 -> 100*100*7 | J69: =[1]Лист1!Z33 -> 12 \ | K69: =[1]Лист1!AA33 -> 85200 | L69: =IF(ISNUMBER(K69),K69-500,"") -> 84700 | M69: =IF(ISNUMBER(K69),K69-1300,"") -> 83900 | N69: =IF(ISNUMBER(K69),K69-2400,"") -> 82800 | O69: =[1]Лист1!AE33 -> 929.39
A70: =[1]Расчет_металла!X222 -> 50*3,5 | B70: =[1]Расчет_металла!Y222 -> 7,85 | C70: =[1]Расчет_металла!Z222 -> 116500 | D70: =IF(ISNUMBER(C70),C70-500,"") -> 116000 | E70: =IF(ISNUMBER(C70),C70-1300,"") -> 115200 | F70: =IF(ISNUMBER(C70),C70-2400,"") -> 114100 | G70: =[1]Расчет_металла!AD222 -> 587.69427 | I70: =[1]Лист1!Y34 -> 100*100*8 | J70: =[1]Лист1!Z34 -> 11,7 \ 12 | K70: =[1]Лист1!AA34 | L70: =IF(ISNUMBER(K70),K70-500,"") | M70: =IF(ISNUMBER(K70),K70-1300,"") | N70: =IF(ISNUMBER(K70),K70-2400,"") | O70: =[1]Лист1!AE34
A71: =[1]Расчет_металла!X223 -> 76 наруж.*3 | B71: =[1]Расчет_металла!Y223 -> 7,85 | C71: =[1]Расчет_металла!Z223 | D71: =IF(ISNUMBER(C71),C71-500,"") | E71: =IF(ISNUMBER(C71),C71-1300,"") | F71: =IF(ISNUMBER(C71),C71-2400,"") | G71: =[1]Расчет_металла!AD223 | I71: =[1]Лист1!Y35 -> 100*100*10 | J71: =[1]Лист1!Z35 -> 12 | K71: =[1]Лист1!AA35 -> 85200 | L71: =IF(ISNUMBER(K71),K71-500,"") -> 84700 | M71: =IF(ISNUMBER(K71),K71-1300,"") -> 83900 | N71: =IF(ISNUMBER(K71),K71-2400,"") -> 82800 | O71: =[1]Лист1!AE35 -> 1286.52
A72: =[1]Расчет_металла!X224 -> 76 наруж.*3,5 | B72: =[1]Расчет_металла!Y224 -> 6 | C72: =[1]Расчет_металла!Z224 -> 111900 | D72: =IF(ISNUMBER(C72),C72-500,"") -> 111400 | E72: =IF(ISNUMBER(C72),C72-1300,"") -> 110600 | F72: =IF(ISNUMBER(C72),C72-2400,"") -> 109500 | G72: =[1]Расчет_металла!AD224 -> 721.755 | I72: =[1]Лист1!Y36 -> 125*125*8 | J72: =[1]Лист1!Z36 -> 11,7 \ 12 | K72: =[1]Лист1!AA36 -> 85200 | L72: =IF(ISNUMBER(K72),K72-500,"") -> 84700 | M72: =IF(ISNUMBER(K72),K72-1300,"") -> 83900 | N72: =IF(ISNUMBER(K72),K72-2400,"") -> 82800 | O72: =[1]Лист1!AE36 -> 1317.3231
... A76: =[1]Расчет_металла!X228 -> 114 наруж.*4 | B76: =[1]Расчет_металла!Y228 -> 7,85 | C76: =[1]Расчет_металла!Z228 -> 99700 | D76: =IF(ISNUMBER(C76),C76-500,"") -> 99200 | E76: =IF(ISNUMBER(C76),C76-1300,"") -> 98400 | F76: =IF(ISNUMBER(C76),C76-2400,"") -> 97300 | G76: =[1]Расчет_металла!AD228 -> 1116.386 | I76: =[1]Лист1!Y40 -> 140*140*10 | J76: =[1]Лист1!Z40 -> 12 | K76: =[1]Лист1!AA40 | L76: =IF(ISNUMBER(K76),K76-500,"") | M76: =IF(ISNUMBER(K76),K76-1300,"") | N76: =IF(ISNUMBER(K76),K76-2400,"") | O76: =[1]Лист1!AE40

Sheet Металлопрокат_2
A1: ООО «СтройОптТоргСервис» | J1: ВНИМАНИЕ! Уважаемые покупатели, цены действительны при оплате наличными или по СБП, при оплате картой стоимость увеличивается на 2,5%
A2: г.Самара, ул.Береговая, 3
A3: Тел.: (846)955-05-00, 955-09-46, 955-19-09, 8-917-157-81-78, 8-917-157-81-76
A4: E-mail: sots63@yandex.ru www.sots-samara.com
A6: Диаметр | B6: Длина | C6: Цена | D6: Цена | E6: Цена | F6: Цена | G6: Цена | I6: Размер | J6: Цена | K6: Цена | L6: Цена | M6: Цена | N6: Цена
A7: мм | B7: метр | C7: 0тн-0,2тн | D7: 0,3тн-1тн | E7: 1тн-2тн | F7: 2тн-3тн | G7: м/п | I7: мм | J7: 0тн-0,5тн | K7: от 0,5тн | L7: 1тн-2тн | M7: 2тн-3тн | N7: 1 шт
A8: Арматура А-3 (А500С-400С) | I8: Лист г/к Ст3сп ГОСТ 16523-97
A9: =[1]Лист1!Y44 -> 6 | B9: =[1]Лист1!Z44 -> 6 | C9: =[1]Лист1!AA44 -> 97900 | D9: =[1]Лист1!AB44 | E9: =[1]Лист1!AC44 -> 97400 | F9: =[1]Лист1!AD44 -> 95500 | G9: =[1]Лист1!AE44 -> 22.517 | I9: =[1]Расчет_металла!X276 -> 1,5*1250*2500 | J9: =[1]Расчет_металла!Z276 -> 84200 | K9: =[1]Расчет_металла!AA276 | L9: =[1]Расчет_металла!AB276 -> 83000 | M9: =[1]Расчет_металла!AC276 -> 81400 | N9: =[1]Расчет_металла!AD276 -> 3300.64
A10: =[1]Лист1!Y45 -> 8 | B10: =[1]Лист1!Z45 -> 6 11,7 | C10: =[1]Лист1!AA45 -> 97000 | D10: =[1]Лист1!AB45 | E10: =[1]Лист1!AC45 -> 96500 | F10: =[1]Лист1!AD45 -> 94600 | G10: =[1]Лист1!AE45 -> 40.643 | I10: =[1]Расчет_металла!X277 -> 2*1000*2200 | J10: =[1]Расчет_металла!Z277 -> 75900 | K10: =[1]Расчет_металла!AA277 | L10: =[1]Расчет_металла!AB277 -> 74700 | M10: =[1]Расчет_металла!AC277 -> 73100 | N10: =[1]Расчет_металла!AD277 -> 2793.12
A11: =[1]Лист1!Y46 -> 10 | B11: =[1]Лист1!Z46 -> 6 11,7 12 | C11: =[1]Лист1!AA46 -> 93800 | D11: =[1]Лист1!AB46 -> 88700 | E11: =[1]Лист1!AC46 -> 88200 | F11: =[1]Лист1!AD46 -> 86300 | G11: =[1]Лист1!AE46 -> 59.0742 | I11: =[1]Расчет_металла!X278 -> 2*1250*2500 | J11: =[1]Расчет_металла!Z278 -> 99800 | K11: =[1]Расчет_металла!AA278 -> 75900 | L11: =[1]Расчет_металла!AB278 -> 74700 | M11: =[1]Расчет_металла!AC278 -> 73100 | N11: =[1]Расчет_металла!AD278 -> 5109.76
A12: =[1]Лист1!Y47 -> 12 | B12: =[1]Лист1!Z47 -> 11,7 | C12: =[1]Лист1!AA47 -> 82900 | D12: =[1]Лист1!AB47 | E12: =[1]Лист1!AC47 -> 82400 | F12: =[1]Лист1!AD47 -> 80500 | G12: =[1]Лист1!AE47 -> 77.2628 | I12: =[1]Расчет_металла!X279 -> 2,5*1250*2500 | J12: =[1]Расчет_металла!Z279 -> 74500 | K12: =[1]Расчет_металла!AA279 | L12: =[1]Расчет_металла!AB279 -> 73300 | M12: =[1]Расчет_металла!AC279 -> 71700 | N12: =[1]Расчет_металла!AD279 -> 4708.4
A13: =[1]Лист1!Y48 -> 14 | B13: =[1]Лист1!Z48 -> 11,7 | C13: =[1]Лист1!AA48 -> 80300 | D13: =[1]Лист1!AB48 | E13: =[1]Лист1!AC48 -> 79800 | F13: =[1]Лист1!AD48 -> 77900 | G13: =[1]Лист1!AE48 -> 100.2144 | I13: =[1]Расчет_металла!X280 -> 3*1250*2500 | J13: =[1]Расчет_металла!Z280 -> 72600 | K13: =[1]Расчет_металла!AA280 | L13: =[1]Расчет_металла!AB280 -> 71400 | M13: =[1]Расчет_металла!AC280 -> 69800 | N13: =[1]Расчет_металла!AD280 -> 5626.5
A14: =[1]Лист1!Y49 -> 16 | B14: =[1]Лист1!Z49 -> 11,7 | C14: =[1]Лист1!AA49 -> 79800 | D14: =[1]Лист1!AB49 | E14: =[1]Лист1!AC49 -> 79300 | F14: =[1]Лист1!AD49 -> 77400 | G14: =[1]Лист1!AE49 -> 126.084 | I14: =[1]Расчет_металла!X281 -> 3*1500*6000 | J14: =[1]Расчет_металла!Z281 | K14: =[1]Расчет_металла!AA281 | L14: =[1]Расчет_металла!AB281 | M14: =[1]Расчет_металла!AC281 | N14: =[1]Расчет_металла!AD281
A15: =[1]Лист1!Y50 -> 18 | B15: =[1]Лист1!Z50 -> 11,7 | C15: =[1]Лист1!AA50 -> 79700 | D15: =[1]Лист1!AB50 | E15: =[1]Лист1!AC50 -> 79200 | F15: =[1]Лист1!AD50 -> 77300 | G15: =[1]Лист1!AE50 -> 165.5369 | I15: =[1]Расчет_металла!X282 -> 4*1500*6000 | J15: =[1]Расчет_металла!Z282 -> 72500 | K15: =[1]Расчет_металла!AA282 | L15: =[1]Расчет_металла!AB282 -> 71300 | M15: =[1]Расчет_металла!AC282 -> 69700 | N15: =[1]Расчет_металла!AD282 -> 20662.5
A16: =[1]Лист1!Y51 -> 20 | B16: =[1]Лист1!Z51 -> 11,7 | C16: =[1]Лист1!AA51 -> 79800 | D16: =[1]Лист1!AB51 | E16: =[1]Лист1!AC51 -> 79300 | F16: =[1]Лист1!AD51 -> 77400 | G16: =[1]Лист1!AE51 -> 204.6072 | I16: =[1]Расчет_металла!X283 -> 4*1500*6000 | J16: =[1]Расчет_металла!Z283 -> 72500 | K16: =[1]Расчет_металла!AA283 | L16: =[1]Расчет_металла!AB283 -> 71300 | M16: =[1]Расчет_металла!AC283 -> 69700 | N16: =[1]Расчет_металла!AD283 -> 21170
A17: =[1]Лист1!Y52 -> 25 | B17: =[1]Лист1!Z52 -> 11,7 | C17: =[1]Лист1!AA52 | D17: =[1]Лист1!AB52 | E17: =[1]Лист1!AC52 | F17: =[1]Лист1!AD52 | G17: =[1]Лист1!AE52 | I17: =[1]Расчет_металла!X284 -> 5*1500*3000 | J17: =[1]Расчет_металла!Z284 -> 72500 | K17: =[1]Расчет_металла!AA284 | L17: =[1]Расчет_металла!AB284 -> 71300 | M17: =[1]Расчет_металла!AC284 -> 69700 | N17: =[1]Расчет_металла!AD284 -> 12760
A18: =[1]Лист1!Y53 -> 28 | B18: =[1]Лист1!Z53 -> 11,7 | C18: =[1]Лист1!AA53 | D18: =[1]Лист1!AB53 | E18: =[1]Лист1!AC53 | F18: =[1]Лист1!AD53 | G18: =[1]Лист1!AE53 | I18: =[1]Расчет_металла!X285 -> 5*1500*6000 | J18: =[1]Расчет_металла!Z285 -> 72500 | K18: =[1]Расчет_металла!AA285 | L18: =[1]Расчет_металла!AB285 -> 71300 | M18: =[1]Расчет_металла!AC285 -> 69700 | N18: =[1]Расчет_металла!AD285 -> 26607.5
A19: Арматура А-1 Ст3 круг | I19: =[1]Расчет_металла!X286 -> 5*1500*6000 | J19: =[1]Расчет_металла!Z286 -> 72500 | K19: =[1]Расчет_металла!AA286 | L19: =[1]Расчет_металла!AB286 -> 71300 | M19: =[1]Расчет_металла!AC286 -> 69700 | N19: =[1]Расчет_металла!AD286 -> 26462.5
A20: =[1]Лист1!Y57 -> 6 | B20: =[1]Лист1!Z57 -> 6 бух | C20: =[1]Лист1!AA57 -> 96000 | D20: =[1]Лист1!AB57 | E20: =[1]Лист1!AC57 -> 95500 | F20: =[1]Лист1!AD57 -> 93600 | G20: =[1]Лист1!AE57 -> 25.6 | I20: =[1]Расчет_металла!X287 -> 6*1500*3000 | J20: =[1]Расчет_металла!Z287 | K20: =[1]Расчет_металла!AA287 | L20: =[1]Расчет_металла!AB287 | M20: =[1]Расчет_металла!AC287 | N20: =[1]Расчет_металла!AD287
A21: =[1]Лист1!Y58 -> 8 | B21: =[1]Лист1!Z58 -> 6 бух | C21: =[1]Лист1!AA58 -> 96000 | D21: =[1]Лист1!AB58 | E21: =[1]Лист1!AC58 -> 95500 | F21: =[1]Лист1!AD58 -> 93600 | G21: =[1]Лист1!AE58 -> 38.4 | I21: =[1]Расчет_металла!X288 -> 6*1500*6000 | J21: =[1]Расчет_металла!Z288 -> 74300 | K21: =[1]Расчет_металла!AA288 -> 72500 | L21: =[1]Расчет_металла!AB288 -> 71300 | M21: =[1]Расчет_металла!AC288 -> 69700 | N21: =[1]Расчет_металла!AD288 -> 32394.8
A22: =[1]Лист1!Y59 -> 10 | B22: =[1]Лист1!Z59 -> 6 11,7 | C22: =[1]Лист1!AA59 -> 88900 | D22: =[1]Лист1!AB59 | E22: =[1]Лист1!AC59 -> 88400 | F22: =[1]Лист1!AD59 -> 86500 | G22: =[1]Лист1!AE59 -> 54.821667 | I22: =[1]Расчет_металла!X289 -> 8*1500*6000 | J22: =[1]Расчет_металла!Z289 -> 81600 | K22: =[1]Расчет_металла!AA289 -> 73300 | L22: =[1]Расчет_металла!AB289 -> 72100 | M22: =[1]Расчет_металла!AC289 -> 70500 | N22: =[1]Расчет_металла!AD289 -> 46348.8
A23: =[1]Лист1!Y60 -> 12 | B23: =[1]Лист1!Z60 -> 6 11,7 | C23: =[1]Лист1!AA60 -> 86100 | D23: =[1]Лист1!AB60 | E23: =[1]Лист1!AC60 -> 85600 | F23: =[1]Лист1!AD60 -> 83700 | G23: =[1]Лист1!AE60 -> 77.49 | I23: =[1]Расчет_металла!X290 -> 10*1500*3000 | J23: =[1]Расчет_металла!Z290 -> 74400 | K23: =[1]Расчет_металла!AA290 | L23: =[1]Расчет_металла!AB290 -> 73200 | M23: =[1]Расчет_металла!AC290 -> 71600 | N23: =[1]Расчет_металла!AD290 -> 25668
A24: =[1]Лист1!Y61 -> 14 | B24: =[1]Лист1!Z61 -> 11,7 12 | C24: =[1]Лист1!AA61 -> 83500 | D24: =[1]Лист1!AB61 | E24: =[1]Лист1!AC61 -> 83000 | F24: =[1]Лист1!AD61 -> 81100 | G24: =[1]Лист1!AE61 -> 102.05556 | I24: =[1]Расчет_металла!X291 -> 10*1500*6000 | J24: =[1]Расчет_металла!Z291 -> 74400 | K24: =[1]Расчет_металла!AA291 -> 72500 | L24: =[1]Расчет_металла!AB291 -> 71300 | M24: =[1]Расчет_металла!AC291 -> 69700 | N24: =[1]Расчет_металла!AD291 -> 53344.8
A25: =[1]Лист1!Y62 -> 16 | B25: =[1]Лист1!Z62 -> 11,7 | C25: =[1]Лист1!AA62 -> 83500 | D25: =[1]Лист1!AB62 | E25: =[1]Лист1!AC62 -> 83000 | F25: =[1]Лист1!AD62 -> 81100 | G25: =[1]Лист1!AE62 -> 132.74359 | I25: =[1]Расчет_металла!X292 -> 10*2000*6000 | J25: =[1]Расчет_металла!Z292 | K25: =[1]Расчет_металла!AA292 | L25: =[1]Расчет_металла!AB292 | M25: =[1]Расчет_металла!AC292 | N25: =[1]Расчет_металла!AD292
A26: =[1]Лист1!Y63 -> 18 | B26: =[1]Лист1!Z63 -> 11,7 | C26: =[1]Лист1!AA63 -> 83500 | D26: =[1]Лист1!AB63 | E26: =[1]Лист1!AC63 -> 83000 | F26: =[1]Лист1!AD63 -> 81100 | G26: =[1]Лист1!AE63 -> 167.71368 | I26: =[1]Расчет_металла!X293 -> 12*1500*6000 | J26: =[1]Расчет_металла!Z293 -> 72500 | K26: =[1]Расчет_металла!AA293 | L26: =[1]Расчет_металла!AB293 -> 71300 | M26: =[1]Расчет_металла!AC293 -> 69700 | N26: =[1]Расчет_металла!AD293 -> 61770
A27: =[1]Лист1!Y64 -> 20 | B27: =[1]Лист1!Z64 -> 11,7 | C27: =[1]Лист1!AA64 -> 83600 | D27: =[1]Лист1!AB64 | E27: =[1]Лист1!AC64 -> 83100 | F27: =[1]Лист1!AD64 -> 81200 | G27: =[1]Лист1!AE64 -> 207.21368 | I27: =[1]Расчет_металла!X294 -> 14*1500*6000 | J27: =[1]Расчет_металла!Z294 -> 73300 | K27: =[1]Расчет_металла!AA294 | L27: =[1]Расчет_металла!AB294 -> 72100 | M27: =[1]Расчет_металла!AC294 -> 70500 | N27: =[1]Расчет_металла!AD294 -> 72713.6
A28: =[1]Лист1!Y65 -> 22 | B28: =[1]Лист1!Z65 -> 11,7 | C28: =[1]Лист1!AA65 -> 82300 | D28: =[1]Лист1!AB65 | E28: =[1]Лист1!AC65 -> 81800 | F28: =[1]Лист1!AD65 -> 79900 | G28: =[1]Лист1!AE65 -> 246.9 | I28: =[1]Расчет_металла!X295 -> 16*1500*6000 | J28: =[1]Расчет_металла!Z295 -> 73900 | K28: =[1]Расчет_металла!AA295 | L28: =[1]Расчет_металла!AB295 -> 72700 | M28: =[1]Расчет_металла!AC295 -> 71100 | N28: =[1]Расчет_металла!AD295 -> 84024.3
A29: Балка ГОСТ 8239-89 | I29: =[1]Расчет_металла!X296 -> 20*1500*6000 | J29: =[1]Расчет_металла!Z296 -> 83100 | K29: =[1]Расчет_металла!AA296 -> 76200 | L29: =[1]Расчет_металла!AB296 -> 75000 | M29: =[1]Расчет_металла!AC296 -> 73400 | N29: =[1]Расчет_металла!AD296 -> 118666.8
A30: =[1]Расчет_металла!X236 -> 14Б1 | B30: =[1]Расчет_металла!Y236 -> 11.7 | C30: =[1]Расчет_металла!Z236 -> 121800 | D30: =[1]Расчет_металла!AA236 | E30: =[1]Расчет_металла!AB236 -> 120500 | F30: =[1]Расчет_металла!AC236 -> 119400 | G30: =[1]Расчет_металла!AD236 -> 1290.8718 | I30: =[1]Расчет_металла!X297 -> 20*2000*6000 | J30: =[1]Расчет_металла!Z297 | K30: =[1]Расчет_металла!AA297 | L30: =[1]Расчет_металла!AB297 | M30: =[1]Расчет_металла!AC297 | N30: =[1]Расчет_металла!AD297
A31: =[1]Расчет_металла!X238 -> 16Б1 | B31: =[1]Расчет_металла!Y238 -> 12 | C31: =[1]Расчет_металла!Z238 -> 122900 | D31: =[1]Расчет_металла!AA238 | E31: =[1]Расчет_металла!AB238 -> 121600 | F31: =[1]Расчет_металла!AC238 -> 120500 | G31: =[1]Расчет_металла!AD238 -> 1566.975 | I31: =[1]Расчет_металла!X298 -> 25*1500*6000 | J31: =[1]Расчет_металла!Z298 | K31: =[1]Расчет_металла!AA298 | L31: =[1]Расчет_металла!AB298 | M31: =[1]Расчет_металла!AC298 | N31: =[1]Расчет_металла!AD298
A32: =[1]Расчет_металла!X240 -> 18Б1 | B32: =[1]Расчет_металла!Y240 -> 12 | C32: =[1]Расчет_металла!Z240 -> 122900 | D32: =[1]Расчет_металла!AA240 | E32: =[1]Расчет_металла!AB240 -> 121600 | F32: =[1]Расчет_металла!AC240 -> 120500 | G32: =[1]Расчет_металла!AD240 -> 1894.7083 | I32: =[1]Расчет_металла!X299 -> 30*1500*6000 | J32: =[1]Расчет_металла!Z299 -> 85500 | K32: =[1]Расчет_металла!AA299 -> 76300 | L32: =[1]Расчет_металла!AB299 -> 75100 | M32: =[1]Расчет_металла!AC299 -> 73500 | N32: =[1]Расчет_металла!AD299 -> 184680
A33: =[1]Расчет_металла!X241 -> 18 | B33: =[1]Расчет_металла!Y241 -> 12 | C33: =[1]Расчет_металла!Z241 -> 122900 | D33: =[1]Расчет_металла!AA241 | E33: =[1]Расчет_металла!AB241 -> 121600 | F33: =[1]Расчет_металла!AC241 -> 120500 | G33: =[1]Расчет_металла!AD241 -> 2255.215 | I33: Лист х/к ст 08пс ГОСТ 16523-97 1шт
A34: =[1]Расчет_металла!X242 -> 20Б1 | B34: =[1]Расчет_металла!Y242 -> 12 | C34: =[1]Расчет_металла!Z242 -> 106900 | D34: =[1]Расчет_металла!AA242 -> 98200 | E34: =[1]Расчет_металла!AB242 -> 96900 | F34: =[1]Расчет_металла!AC242 -> 95800 | G34: =[1]Расчет_металла!AD242 -> 2281.4242 | I34: =[1]Расчет_металла!X305 -> 0,5*1250*2500 | J34: =[1]Расчет_металла!Z305 -> 89500 | K34: =[1]Расчет_металла!AA305 -> 81300 | L34: =[1]Расчет_металла!AB305 -> 80100 | M34: =[1]Расчет_металла!AC305 -> 78500 | N34: =[1]Расчет_металла!AD305 -> 1163.5
A35: =[1]Расчет_металла!X243 -> 25Б1 | B35: =[1]Расчет_металла!Y243 -> 12 | C35: =[1]Расчет_металла!Z243 -> 98700 | D35: =[1]Расчет_металла!AA243 -> 88900 | E35: =[1]Расчет_металла!AB243 -> 87600 | F35: =[1]Расчет_металла!AC243 -> 86500 | G35: =[1]Расчет_металла!AD243 -> 2536.59 | I35: =[1]Расчет_металла!X306 -> 0,7*1250*2500 | J35: =[1]Расчет_металла!Z306 -> 80900 | K35: =[1]Расчет_металла!AA306 | L35: =[1]Расчет_металла!AB306 -> 79700 | M35: =[1]Расчет_металла!AC306 -> 78100 | N35: =[1]Расчет_металла!AD306 -> 1456.2
A36: =[1]Расчет_металла!X244 -> 30 | B36: =[1]Расчет_металла!Y244 -> 12 | C36: =[1]Расчет_металла!Z244 -> 89800 | D36: =[1]Расчет_металла!AA244 | E36: =[1]Расчет_металла!AB244 -> 88500 | F36: =[1]Расчет_металла!AC244 -> 87400 | G36: =[1]Расчет_металла!AD244 -> 3276.9517 | I36: =[1]Расчет_металла!X307 -> 0,8*1250*2500 | J36: =[1]Расчет_металла!Z307 -> 80900 | K36: =[1]Расчет_металла!AA307 | L36: =[1]Расчет_металла!AB307 -> 79700 | M36: =[1]Расчет_металла!AC307 -> 78100 | N36: =[1]Расчет_металла!AD307 -> 1618
A37: Шестигранник Ст 45 ГОСТ 2879-88 | I37: =[1]Расчет_металла!X308 -> 1,0*1250*2500 | J37: =[1]Расчет_металла!Z308 -> 81900 | K37: =[1]Расчет_металла!AA308 -> 78500 | L37: =[1]Расчет_металла!AB308 -> 77300 | M37: =[1]Расчет_металла!AC308 -> 75700 | N37: =[1]Расчет_металла!AD308 -> 2047.5
A38: =[1]Лист1!Y4 -> 10 | B38: =[1]Лист1!Z4 -> 6 | C38: =[1]Лист1!AA4 -> 69800 | D38: =[1]Лист1!AB4 | E38: =[1]Лист1!AC4 -> 69300 | F38: =[1]Лист1!AD4 -> 67400 | G38: =[1]Лист1!AE4 -> 47.696667 | I38: =[1]Расчет_металла!X309 -> 1,2*1250*2500 | J38: =[1]Расчет_металла!Z309 -> 79000 | K38: =[1]Расчет_металла!AA309 | L38: =[1]Расчет_металла!AB309 -> 77800 | M38: =[1]Расчет_металла!AC309 -> 76200 | N38: =[1]Расчет_металла!AD309 -> 2370
A39: =[1]Лист1!Y5 -> 14 | B39: =[1]Лист1!Z5 -> 6,05 | C39: =[1]Лист1!AA5 -> 69800 | D39: =[1]Лист1!AB5 | E39: =[1]Лист1!AC5 -> 69300 | F39: =[1]Лист1!AD5 -> 67400 | G39: =[1]Лист1!AE5 -> 92.297521 | I39: =[1]Расчет_металла!X310 -> 1,5*1250*2500 | J39: =[1]Расчет_металла!Z310 -> 89900 | K39: =[1]Расчет_металла!AA310 -> 80800 | L39: =[1]Расчет_металла!AB310 -> 79600 | M39: =[1]Расчет_металла!AC310 -> 78000 | N39: =[1]Расчет_металла!AD310 -> 3326.3
A40: =[1]Лист1!Y6 -> 17 | B40: =[1]Лист1!Z6 -> 6,05 | C40: =[1]Лист1!AA6 -> 69800 | D40: =[1]Лист1!AB6 | E40: =[1]Лист1!AC6 -> 69300 | F40: =[1]Лист1!AD6 -> 67400 | G40: =[1]Лист1!AE6 -> 137.29256 | I40: =[1]Расчет_металла!X311 -> 2*1250*2500 | J40: =[1]Расчет_металла!Z311 -> 92900 | K40: =[1]Расчет_металла!AA311 -> 89900 | L40: =[1]Расчет_металла!AB311 -> 88700 | M40: =[1]Расчет_металла!AC311 -> 87100 | N40: =[1]Расчет_металла!AD311 -> 4645
A41: =[1]Лист1!Y7 -> 19 | B41: =[1]Лист1!Z7 -> 6,05 | C41: =[1]Лист1!AA7 -> 69800 | D41: =[1]Лист1!AB7 | E41: =[1]Лист1!AC7 -> 69300 | F41: =[1]Лист1!AD7 -> 67400 | G41: =[1]Лист1!AE7 -> 170.75041 | I41: =[1]Расчет_металла!X312 -> 3*1250*2500 | J41: =[1]Расчет_металла!Z312 -> 93700 | K41: =[1]Расчет_металла!AA312 -> 92600 | L41: =[1]Расчет_металла!AB312 -> 91400 | M41: =[1]Расчет_металла!AC312 -> 89800 | N41: =[1]Расчет_металла!AD312 -> 7027.5
A42: =[1]Лист1!Y8 -> 20 | B42: =[1]Лист1!Z8 -> 5,85 \ | C42: =[1]Лист1!AA8 | D42: =[1]Лист1!AB8 | E42: =[1]Лист1!AC8 | F42: =[1]Лист1!AD8 | G42: =[1]Лист1!AE8 | I42: Лист г/к рифленый Ст. 3Сп ГОСТ 8568-77 1шт
A43: =[1]Лист1!Y9 -> 41 | B43: =[1]Лист1!Z9 -> 6 \ | C43: =[1]Лист1!AA9 -> 69800 | D43: =[1]Лист1!AB9 | E43: =[1]Лист1!AC9 -> 69300 | F43: =[1]Лист1!AD9 -> 67400 | G43: =[1]Лист1!AE9 -> 793.39333 | I43: =[1]Расчет_металла!X316 -> 3*1,25*2,5 | J43: =[1]Расчет_металла!Z316 -> 77200 | K43: =[1]Расчет_металла!AA316 | L43: =[1]Расчет_металла!AB316 -> 76000 | M43: =[1]Расчет_металла!AC316 -> 74400 | N43: =[1]Расчет_металла!AD316 -> 6006.16
A44: =[1]Лист1!Y10 -> 46 | B44: =[1]Лист1!Z10 -> 6,05 | C44: =[1]Лист1!AA10 -> 69800 | D44: =[1]Лист1!AB10 | E44: =[1]Лист1!AC10 -> 69300 | F44: =[1]Лист1!AD10 -> 67400 | G44: =[1]Лист1!AE10 -> 1004.8893 | I44: =[1]Расчет_металла!X317 -> 3*1,5*6,0 | J44: =[1]Расчет_металла!Z317 -> 77200 | K44: =[1]Расчет_металла!AA317 -> 69500 | L44: =[1]Расчет_металла!AB317 -> 68300 | M44: =[1]Расчет_металла!AC317 -> 66700 | N44: =[1]Расчет_металла!AD317 -> 16752.4
A45: Полоса г/к ГОСТ 103-76 | I45: =[1]Расчет_металла!X318 -> 4*1,5*3,0 | J45: =[1]Расчет_металла!Z318 -> 76400 | K45: =[1]Расчет_металла!AA318 | L45: =[1]Расчет_металла!AB318 -> 75200 | M45: =[1]Расчет_металла!AC318 -> 73600 | N45: =[1]Расчет_металла!AD318 -> 10848.8
A46: =[1]Лист1!Y78 -> 20*4 | B46: =[1]Лист1!Z78 -> 6 | C46: =[1]Лист1!AA78 -> 97600 | D46: =[1]Лист1!AB78 | E46: =[1]Лист1!AC78 -> 97100 | F46: =[1]Лист1!AD78 -> 95200 | G46: =[1]Лист1!AE78 -> 61.813333 | I46: =[1]Расчет_металла!X319 -> 4*1,5*6,0 | J46: =[1]Расчет_металла!Z319 -> 76500 | K46: =[1]Расчет_металла!AA319 | L46: =[1]Расчет_металла!AB319 -> 75300 | M46: =[1]Расчет_металла!AC319 -> 73700 | N46: =[1]Расчет_металла!AD319 -> 22720.5
A47: =[1]Лист1!Y79 -> 25*4 | B47: =[1]Лист1!Z79 -> 6 | C47: =[1]Лист1!AA79 -> 93800 | D47: =[1]Лист1!AB79 | E47: =[1]Лист1!AC79 -> 93300 | F47: =[1]Лист1!AD79 -> 91400 | G47: =[1]Лист1!AE79 -> 73.476667 | I47: =[1]Расчет_металла!X320 -> 5*1,5*6,0 | J47: =[1]Расчет_металла!Z320 -> 76500 | K47: =[1]Расчет_металла!AA320 | L47: =[1]Расчет_металла!AB320 -> 75300 | M47: =[1]Расчет_металла!AC320 -> 73700 | N47: =[1]Расчет_металла!AD320 -> 27540
A48: =[1]Лист1!Y80 -> 30*4 | B48: =[1]Лист1!Z80 -> 6 | C48: =[1]Лист1!AA80 -> 85400 | D48: =[1]Лист1!AB80 | E48: =[1]Лист1!AC80 -> 84900 | F48: =[1]Лист1!AD80 -> 83000 | G48: =[1]Лист1!AE80 -> 81.13 | I48: Лист оцинкованный ГОСТ 14918-80 1шт
A49: =[1]Лист1!Y81 -> 40*4 | B49: =[1]Лист1!Z81 -> 5,85 6 | C49: =[1]Лист1!AA81 -> 85400 | D49: =[1]Лист1!AB81 | E49: =[1]Лист1!AC81 -> 84900 | F49: =[1]Лист1!AD81 -> 83000 | G49: =[1]Лист1!AE81 -> 106.56752 | I49: =[1]Расчет_металла!X342 -> 0,5*1250*2500 | J49: =[1]Расчет_металла!Z342 -> 102900 | K49: =[1]Расчет_металла!AA342 | L49: =[1]Расчет_металла!AB342 -> 101700 | M49: =[1]Расчет_металла!AC342 -> 100100 | N49: =[1]Расчет_металла!AD342 -> 1234.8
A50: =[1]Лист1!Y82 -> 40*5 | B50: =[1]Лист1!Z82 -> 5,85 6 | C50: =[1]Лист1!AA82 -> 85500 | D50: =[1]Лист1!AB82 | E50: =[1]Лист1!AC82 -> 85000 | F50: =[1]Лист1!AD82 -> 83100 | G50: =[1]Лист1!AE82 -> 134.46154 | I50: =[1]Расчет_металла!X343 -> 0,55*1000*2000 | J50: =[1]Расчет_металла!Z343 | K50: =[1]Расчет_металла!AA343 | L50: =[1]Расчет_металла!AB343 | M50: =[1]Расчет_металла!AC343 | N50: =[1]Расчет_металла!AD343
A51: =[1]Лист1!Y83 -> 50*4 | B51: =[1]Лист1!Z83 -> 5,85 6 | C51: =[1]Лист1!AA83 -> 85500 | D51: =[1]Лист1!AB83 | E51: =[1]Лист1!AC83 -> 85000 | F51: =[1]Лист1!AD83 -> 83100 | G51: =[1]Лист1!AE83 -> 134.46154 | I51: =[1]Расчет_металла!X344 -> 0,55*1250*2500 | J51: =[1]Расчет_металла!Z344 -> 113800 | K51: =[1]Расчет_металла!AA344 -> 105900 | L51: =[1]Расчет_металла!AB344 -> 104700 | M51: =[1]Расчет_металла!AC344 -> 103100 | N51: =[1]Расчет_металла!AD344 -> 1547.68
A52: =[1]Лист1!Y84 -> 50*5 | B52: =[1]Лист1!Z84 -> 5,85 6 | C52: =[1]Лист1!AA84 -> 85500 | D52: =[1]Лист1!AB84 | E52: =[1]Лист1!AC84 -> 85000 | F52: =[1]Лист1!AD84 -> 83100 | G52: =[1]Лист1!AE84 -> 168.07692 | I52: =[1]Расчет_металла!X345 -> 0,7*1250*2500 | J52: =[1]Расчет_металла!Z345 -> 108800 | K52: =[1]Расчет_металла!AA345 -> 95500 | L52: =[1]Расчет_металла!AB345 -> 94300 | M52: =[1]Расчет_металла!AC345 -> 92700 | N52: =[1]Расчет_металла!AD345 -> 1849.6
A53: =[1]Лист1!Y85 -> 60*6 | B53: =[1]Лист1!Z85 -> 5,85 6 | C53: =[1]Лист1!AA85 -> 90900 | D53: =[1]Лист1!AB85 | E53: =[1]Лист1!AC85 -> 90400 | F53: =[1]Лист1!AD85 -> 88500 | G53: =[1]Лист1!AE85 -> 256.38462 | I53: =[1]Расчет_металла!X346 -> 0,8*1250*2500 | J53: =[1]Расчет_металла!Z346 -> 95800 | K53: =[1]Расчет_металла!AA346 | L53: =[1]Расчет_металла!AB346 -> 94600 | M53: =[1]Расчет_металла!AC346 -> 93000 | N53: =[1]Расчет_металла!AD346 -> 1935.16
A54: =[1]Лист1!Y86 -> 80*6 | B54: =[1]Лист1!Z86 -> 6 | C54: =[1]Лист1!AA86 -> 90900 | D54: =[1]Лист1!AB86 -> 85600 | E54: =[1]Лист1!AC86 -> 85100 | F54: =[1]Лист1!AD86 -> 83200 | G54: =[1]Лист1!AE86 -> 342.39 | I54: =[1]Расчет_металла!X347 -> 1,0*1250*2500 | J54: =[1]Расчет_металла!Z347 -> 90600 | K54: =[1]Расчет_металла!AA347 | L54: =[1]Расчет_металла!AB347 -> 89400 | M54: =[1]Расчет_металла!AC347 -> 87800 | N54: =[1]Расчет_металла!AD347 -> 2246.88
A55: =[1]Лист1!Y87 -> 80*8 | B55: =[1]Лист1!Z87 -> 5,85 6 | C55: =[1]Лист1!AA87 -> 86300 | D55: =[1]Лист1!AB87 -> 85600 | E55: =[1]Лист1!AC87 -> 85100 | F55: =[1]Лист1!AD87 -> 83200 | G55: =[1]Лист1!AE87 -> 433.71282 | I55: =[1]Расчет_металла!X348 -> 1,5*1250*2500 | J55: =[1]Расчет_металла!Z348 -> 89900 | K55: =[1]Расчет_металла!AA348 | L55: =[1]Расчет_металла!AB348 -> 88700 | M55: =[1]Расчет_металла!AC348 -> 87100 | N55: =[1]Расчет_металла!AD348 -> 3299.33
A56: =[1]Лист1!Y88 -> 100*6 | B56: =[1]Лист1!Z88 -> 5,85 | C56: =[1]Лист1!AA88 | D56: =[1]Лист1!AB88 | E56: =[1]Лист1!AC88 | F56: =[1]Лист1!AD88 | G56: =[1]Лист1!AE88 | I56: =[1]Расчет_металла!X349 -> 2*1250*2500 | J56: =[1]Расчет_металла!Z349 -> 103400 | K56: =[1]Расчет_металла!AA349 -> 95000 | L56: =[1]Расчет_металла!AB349 -> 93800 | M56: =[1]Расчет_металла!AC349 -> 92200 | N56: =[1]Расчет_металла!AD349 -> 5118.3
A57: =[1]Лист1!Y89 -> 100*8 | B57: =[1]Лист1!Z89 -> 6 | C57: =[1]Лист1!AA89 -> 89800 | D57: =[1]Лист1!AB89 | E57: =[1]Лист1!AC89 -> 89300 | F57: =[1]Лист1!AD89 -> 87400 | G57: =[1]Лист1!AE89 -> 564.24333 | I57: Лист протяжно-вытяжной (ПВЛ) 1 шт
A58: =[1]Лист1!Y90 -> 100*10 | B58: =[1]Лист1!Z90 -> 6 | C58: =[1]Лист1!AA90 -> 89900 | D58: =[1]Лист1!AB90 | E58: =[1]Лист1!AC90 -> 89400 | F58: =[1]Лист1!AD90 -> 87500 | G58: =[1]Лист1!AE90 -> 734.18333 | I58: =[1]Расчет_металла!X325 -> 306 0,5*3,3 | J58: =[1]Расчет_металла!Z325 -> 78100 | K58: =[1]Расчет_металла!AA325 | L58: =[1]Расчет_металла!AB325 -> 76900 | M58: =[1]Расчет_металла!AC325 -> 75300 | N58: =[1]Расчет_металла!AD325 -> 1538.57
A59: Квадрат ГОСТ 2591-88 | I59: =[1]Расчет_металла!X326 -> 306 1,5*3,0 | J59: =[1]Расчет_металла!Z326 -> 78100 | K59: =[1]Расчет_металла!AA326 | L59: =[1]Расчет_металла!AB326 -> 76900 | M59: =[1]Расчет_металла!AC326 -> 75300 | N59: =[1]Расчет_металла!AD326 -> 4412.65
A60: =[1]Лист1!Y69 -> 8 | B60: =[1]Лист1!Z69 -> 6 | C60: =[1]Лист1!AA69 | D60: =[1]Лист1!AB69 | E60: =[1]Лист1!AC69 | F60: =[1]Лист1!AD69 | G60: =[1]Лист1!AE69 | I60: =[1]Расчет_металла!X327 -> 306 1,0*3,3 | J60: =[1]Расчет_металла!Z327 -> 78100 | K60: =[1]Расчет_металла!AA327 | L60: =[1]Расчет_металла!AB327 -> 76900 | M60: =[1]Расчет_металла!AC327 -> 75300 | N60: =[1]Расчет_металла!AD327 -> 2967.8
A61: =[1]Лист1!Y70 -> 10 | B61: =[1]Лист1!Z70 -> 6 | C61: =[1]Лист1!AA70 -> 85200 | D61: =[1]Лист1!AB70 | E61: =[1]Лист1!AC70 -> 84700 | F61: =[1]Лист1!AD70 -> 82800 | G61: =[1]Лист1!AE70 -> 66.74 | I61: =[1]Расчет_металла!X328 -> 406 0,9*2,4 | J61: =[1]Расчет_металла!Z328 | K61: =[1]Расчет_металла!AA328 | L61: =[1]Расчет_металла!AB328 | M61: =[1]Расчет_металла!AC328 | N61: =[1]Расчет_металла!AD328
A62: =[1]Лист1!Y71 -> 12 | B62: =[1]Лист1!Z71 -> 5,85 6 | C62: =[1]Лист1!AA71 -> 85200 | D62: =[1]Лист1!AB71 | E62: =[1]Лист1!AC71 -> 84700 | F62: =[1]Лист1!AD71 -> 82800 | G62: =[1]Лист1!AE71 -> 96.123077 | I62: =[1]Расчет_металла!X329 -> 406 1,50*2,60 | J62: =[1]Расчет_металла!Z329 -> 78100 | K62: =[1]Расчет_металла!AA329 | L62: =[1]Расчет_металла!AB329 -> 76900 | M62: =[1]Расчет_металла!AC329 -> 75300 | N62: =[1]Расчет_металла!AD329 -> 4764.1
A63: =[1]Лист1!Y72 -> 14 | B63: =[1]Лист1!Z72 -> 5,85 6 | C63: =[1]Лист1!AA72 -> 85200 | D63: =[1]Лист1!AB72 | E63: =[1]Лист1!AC72 -> 84700 | F63: =[1]Лист1!AD72 -> 82800 | G63: =[1]Лист1!AE72 -> 131.07692 | I63: =[1]Расчет_металла!X330 -> 406 1,2*3,0 | J63: =[1]Расчет_металла!Z330 | K63: =[1]Расчет_металла!AA330 | L63: =[1]Расчет_металла!AB330 | M63: =[1]Расчет_металла!AC330 | N63: =[1]Расчет_металла!AD330
A64: =[1]Лист1!Y73 -> 16 | B64: =[1]Лист1!Z73 -> 5,85 6 | C64: =[1]Лист1!AA73 -> 85200 | D64: =[1]Лист1!AB73 | E64: =[1]Лист1!AC73 -> 84700 | F64: =[1]Лист1!AD73 -> 82800 | G64: =[1]Лист1!AE73 -> 171.85641 | I64: =[1]Расчет_металла!X331 -> 406 1,0*4,0 | J64: =[1]Расчет_металла!Z331 | K64: =[1]Расчет_металла!AA331 | L64: =[1]Расчет_металла!AB331 | M64: =[1]Расчет_металла!AC331 | N64: =[1]Расчет_металла!AD331
A65: =[1]Лист1!Y74 -> 20 | B65: =[1]Лист1!Z74 -> 5,85 6 | C65: =[1]Лист1!AA74 -> 85200 | D65: =[1]Лист1!AB74 | E65: =[1]Лист1!AC74 -> 84700 | F65: =[1]Лист1!AD74 -> 82800 | G65: =[1]Лист1!AE74 -> 267.97949 | I65: =[1]Расчет_металла!X332 -> 406 1,0*3,5 | J65: =[1]Расчет_металла!Z332 -> 78100 | K65: =[1]Расчет_металла!AA332 | L65: =[1]Расчет_металла!AB332 -> 76900 | M65: =[1]Расчет_металла!AC332 -> 75300 | N65: =[1]Расчет_металла!AD332 -> 3803.47
A66: Швеллер ГОСТ 8240-97 Ст 3 | I66: =[1]Расчет_металла!X333 -> 406 1,5*3,15 | J66: =[1]Расчет_металла!Z333 | K66: =[1]Расчет_металла!AA333 | L66: =[1]Расчет_металла!AB333 | M66: =[1]Расчет_металла!AC333 | N66: =[1]Расчет_металла!AD333
A67: =[1]Расчет_металла!X248 -> 5 У | B67: =[1]Расчет_металла!Y248 -> 12 | C67: =[1]Расчет_металла!Z248 -> 89700 | D67: =[1]Расчет_металла!AA248 | E67: =[1]Расчет_металла!AB248 -> 88400 | F67: =[1]Расчет_металла!AC248 -> 87300 | G67: =[1]Расчет_металла!AD248 -> 463.45 | I67: =[1]Расчет_металла!X334 -> 408 1,5*2,5 | J67: =[1]Расчет_металла!Z334 -> 78100 | K67: =[1]Расчет_металла!AA334 | L67: =[1]Расчет_металла!AB334 -> 76900 | M67: =[1]Расчет_металла!AC334 -> 75300 | N67: =[1]Расчет_металла!AD334 -> 5545.1
A68: =[1]Расчет_металла!X249 -> 6,5 У | B68: =[1]Расчет_металла!Y249 -> 12 | C68: =[1]Расчет_металла!Z249 -> 87400 | D68: =[1]Расчет_металла!AA249 | E68: =[1]Расчет_металла!AB249 -> 86100 | F68: =[1]Расчет_металла!AC249 -> 85000 | G68: =[1]Расчет_металла!AD249 -> 538.96667 | I68: =[1]Расчет_металла!X335 -> 506 1,2*3,0 | J68: =[1]Расчет_металла!Z335 -> 78100 | K68: =[1]Расчет_металла!AA335 | L68: =[1]Расчет_металла!AB335 -> 76900 | M68: =[1]Расчет_металла!AC335 -> 75300 | N68: =[1]Расчет_металла!AD335 -> 5584.15
A69: =[1]Расчет_металла!X250 -> 8 У | B69: =[1]Расчет_металла!Y250 -> 11,7 \ 12 | C69: =[1]Расчет_металла!Z250 -> 86300 | D69: =[1]Расчет_металла!AA250 | E69: =[1]Расчет_металла!AB250 -> 85000 | F69: =[1]Расчет_металла!AC250 -> 83900 | G69: =[1]Расчет_металла!AD250 -> 633.60427 | I69: =[1]Расчет_металла!X336 -> 506 1,2*2,6 | J69: =[1]Расчет_металла!Z336 -> 79700 | K69: =[1]Расчет_металла!AA336 | L69: =[1]Расчет_металла!AB336 -> 78500 | M69: =[1]Расчет_металла!AC336 -> 76900 | N69: =[1]Расчет_металла!AD336 -> 5021.1
A70: =[1]Расчет_металла!X251 -> 10 П/У | B70: =[1]Расчет_металла!Y251 -> 12 \ | C70: =[1]Расчет_металла!Z251 -> 86200 | D70: =[1]Расчет_металла!AA251 | E70: =[1]Расчет_металла!AB251 -> 84900 | F70: =[1]Расчет_металла!AC251 -> 83800 | G70: =[1]Расчет_металла!AD251 -> 762.15167 | I70: =[1]Расчет_металла!X337 -> 506 1,2*3,7 | J70: =[1]Расчет_металла!Z337 -> 78100 | K70: =[1]Расчет_металла!AA337 | L70: =[1]Расчет_металла!AB337 -> 76900 | M70: =[1]Расчет_металла!AC337 -> 75300 | N70: =[1]Расчет_металла!AD337 -> 5701.3
A71: =[1]Расчет_металла!X252 -> 12 У | B71: =[1]Расчет_металла!Y252 -> 12 | C71: =[1]Расчет_металла!Z252 -> 94200 | D71: =[1]Расчет_металла!AA252 | E71: =[1]Расчет_металла!AB252 -> 92900 | F71: =[1]Расчет_металла!AC252 -> 91800 | G71: =[1]Расчет_металла!AD252 -> 1012.65 | I71: =[1]Расчет_металла!#REF! -> #REF! | J71: =[1]Расчет_металла!#REF! -> #REF! | K71: =[1]Расчет_металла!#REF! -> #REF! | L71: =[1]Расчет_металла!#REF! -> #REF! | M71: =[1]Расчет_металла!#REF! -> #REF! | N71: =[1]Расчет_металла!#REF! -> #REF!
A72: =[1]Расчет_металла!X253 -> 14 У | B72: =[1]Расчет_металла!Y253 -> 9 \ 12 | C72: =[1]Расчет_металла!Z253 -> 94100 | D72: =[1]Расчет_металла!AA253 | E72: =[1]Расчет_металла!AB253 -> 92800 | F72: =[1]Расчет_металла!AC253 -> 91700 | G72: =[1]Расчет_металла!AD253 -> 1254.6667 | I72: =[1]Расчет_металла!X338 -> 508 1,5*2,65 | J72: =[1]Расчет_металла!Z338 | K72: =[1]Расчет_металла!AA338 | L72: =[1]Расчет_металла!AB338 | M72: =[1]Расчет_металла!AC338 | N72: =[1]Расчет_металла!AD338
A73: =[1]Расчет_металла!X254 -> 16 П/У | B73: =[1]Расчет_металла!Y254 -> 12 | C73: =[1]Расчет_металла!Z254 -> 94200 | D73: =[1]Расчет_металла!AA254 | E73: =[1]Расчет_металла!AB254 -> 92900 | F73: =[1]Расчет_металла!AC254 -> 91800 | G73: =[1]Расчет_металла!AD254 -> 1397.3
A74: =[1]Расчет_металла!X255 -> 18 П/У | B74: =[1]Расчет_металла!Y255 -> 12 | C74: =[1]Расчет_металла!Z255 -> 98100 | D74: =[1]Расчет_металла!AA255 | E74: =[1]Расчет_металла!AB255 -> 96800 | F74: =[1]Расчет_металла!AC255 -> 95700 | G74: =[1]Расчет_металла!AD255 -> 1657.89
A75: =[1]Расчет_металла!X256 -> 20 П | B75: =[1]Расчет_металла!Y256 -> 12 | C75: =[1]Расчет_металла!Z256 -> 134800 | D75: =[1]Расчет_металла!AA256 | E75: =[1]Расчет_металла!AB256 -> 133500 | F75: =[1]Расчет_металла!AC256 -> 132400 | G75: =[1]Расчет_металла!AD256 -> 2538.7333 | I75: Круг оцинкованный ГОСТ 9.307-89
A76: =[1]Расчет_металла!X257 -> 22 П/У | B76: =[1]Расчет_металла!Y257 -> 11 \ 12 | C76: =[1]Расчет_металла!Z257 -> 135800 | D76: =[1]Расчет_металла!AA257 | E76: =[1]Расчет_металла!AB257 -> 134500 | F76: =[1]Расчет_металла!AC257 -> 133400 | G76: =[1]Расчет_металла!AD257 -> 2864.1455 | I76: диаметр | J76: длина | K76: цена | L76: скидка 1-2т | M76: скидка 2-3т | N76: цена м/п
A77: =[1]Расчет_металла!X258 -> 24 П/У | B77: =[1]Расчет_металла!Y258 -> 12 | C77: =[1]Расчет_металла!Z258 -> 135300 | D77: =[1]Расчет_металла!AA258 | E77: =[1]Расчет_металла!AB258 -> 134000 | F77: =[1]Расчет_металла!AC258 -> 132900 | G77: =[1]Расчет_металла!AD258 -> 3281.025 | I77: =[1]Лист1!Y94 -> 8 | J77: =[1]Лист1!Z94 -> 6 | K77: =[1]Лист1!AA94 -> 155700 | L77: =[1]Лист1!AB94 | M77: =[1]Лист1!AC94 -> 155200 | N77: =[1]Лист1!AD94 -> 153300
A78: =[1]Расчет_металла!X259 -> 27 У | B78: =[1]Расчет_металла!Y259 -> 12 | C78: =[1]Расчет_металла!Z259 -> 144900 | D78: =[1]Расчет_металла!AA259 | E78: =[1]Расчет_металла!AB259 -> 143600 | F78: =[1]Расчет_металла!AC259 -> 142500 | G78: =[1]Расчет_металла!AD259 -> 4105.5 | I78: =[1]Лист1!Y95 -> 10 | J78: =[1]Лист1!Z95 -> 6 | K78: =[1]Лист1!AA95 -> 143800 | L78: =[1]Лист1!AB95 | M78: =[1]Лист1!AC95 -> 143300 | N78: =[1]Лист1!AD95 -> 141400
A79: =[1]Расчет_металла!X260 -> 30 У | B79: =[1]Расчет_металла!Y260 -> 12 | C79: =[1]Расчет_металла!Z260 -> 13200 | D79: =[1]Расчет_металла!AA260 | E79: =[1]Расчет_металла!AB260 -> 11900 | F79: =[1]Расчет_металла!AC260 -> 10800 | G79: =[1]Расчет_металла!AD260 -> 424.6 | I79: =[1]Лист1!Y96 -> 16 | J79: =[1]Лист1!Z96 -> 6 | K79: =[1]Лист1!AA96 | L79: =[1]Лист1!AB96 | M79: =[1]Лист1!AC96 | N79: =[1]Лист1!AD96
A80: Швеллер холодногнутый ГОСТ 8278-83
A81: =[1]Расчет_металла!X264 -> 100*50*3 | B81: =[1]Расчет_металла!Y264 -> 12 | C81: =[1]Расчет_металла!Z264 -> 87900 | D81: =[1]Расчет_металла!AA264 -> 0 | E81: =[1]Расчет_металла!AB264 -> 86600 | F81: =[1]Расчет_металла!AC264 -> 85500 | G81: =[1]Расчет_металла!AD264 -> 386.76
A82: =[1]Расчет_металла!X265 -> 100*50*4 | B82: =[1]Расчет_металла!Y265 -> 12 | C82: =[1]Расчет_металла!Z265 -> 87900 | D82: =[1]Расчет_металла!AA265 -> 0 | E82: =[1]Расчет_металла!AB265 -> 86600 | F82: =[1]Расчет_металла!AC265 -> 85500 | G82: =[1]Расчет_металла!AD265 -> 512.75 | I82: Полоса оцинкованная ГОСТ 103-2006
A83: =[1]Расчет_металла!X266 -> 120*60*4 | B83: =[1]Расчет_металла!Y266 -> 12 | C83: =[1]Расчет_металла!Z266 -> 0 | D83: =[1]Расчет_металла!AA266 -> 0 | E83: =[1]Расчет_металла!AB266 -> -1300 | F83: =[1]Расчет_металла!AC266 -> -2400 | G83: =[1]Расчет_металла!AD266 | I83: размер | J83: длина | K83: цена | L83: скидка 1-2т | M83: скидка 2-3т | N83: цена м/п
A84: =[1]Расчет_металла!X267 -> 140*60*4 | B84: =[1]Расчет_металла!Y267 -> 12 | C84: =[1]Расчет_металла!Z267 -> 0 | D84: =[1]Расчет_металла!AA267 -> 0 | E84: =[1]Расчет_металла!AB267 -> -1300 | F84: =[1]Расчет_металла!AC267 -> -2400 | G84: =[1]Расчет_металла!AD267 | I84: =[1]Лист1!Y100 -> 25*4 | J84: =[1]Лист1!Z100 -> 6 | K84: =[1]Лист1!AA100 -> 142900 | L84: =[1]Лист1!AB100 | M84: =[1]Лист1!AC100 -> 142400 | N84: =[1]Лист1!AD100 -> 140500
A85: =[1]Расчет_металла!X268 -> 140*60*5 | B85: =[1]Расчет_металла!Y268 -> 12 | C85: =[1]Расчет_металла!Z268 -> 87900 | D85: =[1]Расчет_металла!AA268 -> 0 | E85: =[1]Расчет_металла!AB268 -> 86600 | F85: =[1]Расчет_металла!AC268 -> 85500 | G85: =[1]Расчет_металла!AD268 -> 834.3175 | I85: =[1]Лист1!Y101 -> 40*4 | J85: =[1]Лист1!Z101 -> 6 | K85: =[1]Лист1!AA101 -> 138800 | L85: =[1]Лист1!AB101 | M85: =[1]Лист1!AC101 -> 138300 | N85: =[1]Лист1!AD101 -> 136400
A86: =[1]Расчет_металла!X270 -> 160*80*4 | B86: =[1]Расчет_металла!Y270 -> 12 | C86: =[1]Расчет_металла!Z270 -> 0 | D86: =[1]Расчет_металла!AA270 -> 0 | E86: =[1]Расчет_металла!AB270 -> -1300 | F86: =[1]Расчет_металла!AC270 -> -2400 | G86: =[1]Расчет_металла!AD270 | I86: =[1]Лист1!Y102 -> 50*5 | J86: =[1]Лист1!Z102 -> 6 | K86: =[1]Лист1!AA102 -> 136800 | L86: =[1]Лист1!AB102 | M86: =[1]Лист1!AC102 -> 136300 | N86: =[1]Лист1!AD102 -> 134400

Sheet Круги
B1: ООО «СтройОптТоргСервис»
B2: г.Самара, ул.Береговая, 3
B3: Тел.: (846)955-05-00, 955-09-46, 955-19-09, 8-917-157-81-78, 8-917-157-81-76
B4: E-mail: sots63@yandex.ru www.sots-samara.com
B5: ВНИМАНИЕ! Уважаемые покупатели, цены действительны при оплате наличными или по СБП, при оплате картой стоимость увеличивается на 2,5%
B6: Прокат горячекатаный круглого сечения (КРУГ ГОСТ 2590-2006 ИЖСТАЛЬ г.ИЖЕВСК)
B7: Размер | C7: Длина | D7: Цена | E7: Цена | F7: Цена
C8: метр | D8: 0тн-0,2тн | E8: 0,2тн-0,5тн | F8: м/п
B9: =[1]Расчет_металла!X353 -> д.20 СТ.3 | C9: =[1]Расчет_металла!Y353 -> 6 | D9: =[1]Расчет_металла!Z353 -> 79900 | E9: =[1]Расчет_металла!AA353 | F9: =[1]Расчет_металла!AD353 -> 213.06667
B10: =[1]Расчет_металла!X354 -> д.20 СТ.20 | C10: =[1]Расчет_металла!Y354 -> 6 | D10: =[1]Расчет_металла!Z354 -> 79900 | E10: =[1]Расчет_металла!AA354 | F10: =[1]Расчет_металла!AD354 -> 205.07667
B11: =[1]Расчет_металла!X355 -> д.20 СТ.45 | C11: =[1]Расчет_металла!Y355 -> 5,85 | D11: =[1]Расчет_металла!Z355 | E11: =[1]Расчет_металла!AA355 | F11: =[1]Расчет_металла!AD355
B12: =[1]Расчет_металла!X356 -> д.22 СТ.20 | C12: =[1]Расчет_металла!Y356 -> 6 | D12: =[1]Расчет_металла!Z356 -> 80700 | E12: =[1]Расчет_металла!AA356 -> 79900 | F12: =[1]Расчет_металла!AD356 -> 264.965
B13: =[1]Расчет_металла!X357 -> д.22 СТ.40Х | C13: =[1]Расчет_металла!Y357 -> 5,83 | D13: =[1]Расчет_металла!Z357 | E13: =[1]Расчет_металла!AA357 | F13: =[1]Расчет_металла!AD357
B14: =[1]Расчет_металла!X358 -> д.24 СТ.3 | C14: =[1]Расчет_металла!Y358 -> 5,8 6 | D14: =[1]Расчет_металла!Z358 -> 79900 | E14: =[1]Расчет_металла!AA358 | F14: =[1]Расчет_металла!AD358 -> 287.91552
B15: =[1]Расчет_металла!X359 -> д.24 СТ.20 | C15: =[1]Расчет_металла!Y359 -> 5,8 \ 5,85 | D15: =[1]Расчет_металла!Z359 | E15: =[1]Расчет_металла!AA359 | F15: =[1]Расчет_металла!AD359
B16: =[1]Расчет_металла!X360 -> д.24 СТ.45 | C16: =[1]Расчет_металла!Y360 -> 5,85 | D16: =[1]Расчет_металла!Z360 | E16: =[1]Расчет_металла!AA360 | F16: =[1]Расчет_металла!AD360
B17: =[1]Расчет_металла!X361 -> д.25 СТ.3 | C17: =[1]Расчет_металла!Y361 -> 5,8 6 | D17: =[1]Расчет_металла!Z361 -> 79900 | E17: =[1]Расчет_металла!AA361 | F17: =[1]Расчет_металла!AD361 -> 327.86552
B18: =[1]Расчет_металла!X362 -> д.25 СТ.20 | C18: =[1]Расчет_металла!Y362 -> 5,84 | D18: =[1]Расчет_металла!Z362 -> 79900 | E18: =[1]Расчет_металла!AA362 | F18: =[1]Расчет_металла!AD362 -> 343.40582
B19: =[1]Расчет_металла!X363 -> д.25 СТ.45 | C19: =[1]Расчет_металла!Y363 -> 5,8 \ 5,82 | D19: =[1]Расчет_металла!Z363 | E19: =[1]Расчет_металла!AA363 | F19: =[1]Расчет_металла!AD363
B20: =[1]Расчет_металла!X364 -> д.30 СТ.3 | C20: =[1]Расчет_металла!Y364 -> 6 | D20: =[1]Расчет_металла!Z364 -> 80600 | E20: =[1]Расчет_металла!AA364 | F20: =[1]Расчет_металла!AD364 -> 468.82333
... B57: =[1]Расчет_металла!X401 -> д.150 ст.20 | C57: =[1]Расчет_металла!Y401 -> 3,8 \ 3,31 | D57: =[1]Расчет_металла!Z401 -> 79900 | E57: =[1]Расчет_металла!AA401 | F57: =[1]Расчет_металла!AD401 -> 11106.1

Sheet 04082026
