Workbook

Sheet труба_профильная
A1: ООО «СтройОптТоргСервис» | K1: ВНИМАНИЕ! Уважаемые покупатели, цены действительны при оплате наличными или по СБП, при оплате картой стоимость увеличивается на 2,5%
A2: г.Самара, ул.Береговая, 3
A3: Тел.: (846)955-05-00, 955-09-46, 8-917-157-81-78, 8-917-157-81-76
A4: E-mail: sots63@yandex.ru www.sots-samara.com
A6: Диаметр | B6: Длина | C6: Цена | D6: Цена | E6: Цена | F6: Цена | G6: Цена | I6: Диаметр | J6: Длина | K6: Цена | L6: Цена | M6: Цена | N6: Цена | O6: Цена
A7: мм | B7: метр | C7: розница | D7: 0,5тн-1т | E7: 1тн-2тн | F7: от 2тн | G7: м/п | I7: мм | J7: метр | K7: розница | L7: 0,5тн-1т | M7: 1тн-2тн | N7: от 2тн | O7: м/п
A8: Трубы профильные ГОСТ 8639-82, 8645-68 | I8: Трубы профильные ГОСТ 8639-82, 8645-68
A9: =[1]Расчет_металла!X93 -> 10*10*1 | B9: =[1]Расчет_металла!Y93 -> 6 | C9: =[1]Расчет_металла!Z93 -> 99800 | D9: =IF(ISNUMBER(C9),C9-500,"") -> 99300 | E9: =IF(ISNUMBER(C9),C9-1300,"") -> 98500 | F9: =IF(ISNUMBER(C9),C9-2400,"") -> 97400 | G9: =[1]Расчет_металла!AD93 -> 26.613333 | I9: =[1]Расчет_металла!X156 -> 60*30*1,5 | J9: =[1]Расчет_металла!Y156 -> 6 | K9: =[1]Расчет_металла!Z156 -> 82200 | L9: =IF(ISNUMBER(K9),K9-500,"") -> 81700 | M9: =IF(ISNUMBER(K9),K9-1300,"") -> 80900 | N9: =IF(ISNUMBER(K9),K9-2400,"") -> 79800 | O9: =[1]Расчет_металла!AD156 -> 165.77
A10: =[1]Расчет_металла!X94 -> 10*10*1,2 | B10: =[1]Расчет_металла!Y94 -> 6 | C10: =[1]Расчет_металла!Z94 -> 99800 | D10: =IF(ISNUMBER(C10),C10-500,"") -> 99300 | E10: =IF(ISNUMBER(C10),C10-1300,"") -> 98500 | F10: =IF(ISNUMBER(C10),C10-2400,"") -> 97400 | G10: =[1]Расчет_металла!AD94 -> 31.603333 | I10: =[1]Расчет_металла!X157 -> 60*30*2 | J10: =[1]Расчет_металла!Y157 -> 6 | K10: =[1]Расчет_металла!Z157 -> 77700 | L10: =IF(ISNUMBER(K10),K10-500,"") -> 77200 | M10: =IF(ISNUMBER(K10),K10-1300,"") -> 76400 | N10: =IF(ISNUMBER(K10),K10-2400,"") -> 75300 | O10: =[1]Расчет_металла!AD157 -> 205.905
A11: =[1]Расчет_металла!X95 -> 15*15*1,2 | B11: =[1]Расчет_металла!Y95 -> 6 | C11: =[1]Расчет_металла!Z95 -> 91900 | D11: =IF(ISNUMBER(C11),C11-500,"") -> 91400 | E11: =IF(ISNUMBER(C11),C11-1300,"") -> 90600 | F11: =IF(ISNUMBER(C11),C11-2400,"") -> 89500 | G11: =[1]Расчет_металла!AD95 -> 45.95 | I11: =[1]Расчет_металла!X158 -> 60*30*3 | J11: =[1]Расчет_металла!Y158 -> 6 | K11: =[1]Расчет_металла!Z158 -> 71500 | L11: =IF(ISNUMBER(K11),K11-500,"") -> 71000 | M11: =IF(ISNUMBER(K11),K11-1300,"") -> 70200 | N11: =IF(ISNUMBER(K11),K11-2400,"") -> 69100 | O11: =[1]Расчет_металла!AD158 -> 274.08333
A12: =[1]Расчет_металла!X96 -> 15*15*1,5 | B12: =[1]Расчет_металла!Y96 -> 6 | C12: =[1]Расчет_металла!Z96 -> 84500 | D12: =IF(ISNUMBER(C12),C12-500,"") -> 84000 | E12: =IF(ISNUMBER(C12),C12-1300,"") -> 83200 | F12: =IF(ISNUMBER(C12),C12-2400,"") -> 82100 | G12: =[1]Расчет_металла!AD96 -> 50.7 | I12: =[1]Расчет_металла!X159 -> 60*30*4 | J12: =[1]Расчет_металла!Y159 -> 6 | K12: =[1]Расчет_металла!Z159 -> 72700 | L12: =IF(ISNUMBER(K12),K12-500,"") -> 72200 | M12: =IF(ISNUMBER(K12),K12-1300,"") -> 71400 | N12: =IF(ISNUMBER(K12),K12-2400,"") -> 70300 | O12: =[1]Расчет_металла!AD159 -> 358.65333
A13: =[1]Расчет_металла!X97 -> 15*15*2 | B13: =[1]Расчет_металла!Y97 -> 6 | C13: =[1]Расчет_металла!Z97 | D13: =IF(ISNUMBER(C13),C13-500,"") | E13: =IF(ISNUMBER(C13),C13-1300,"") | F13: =IF(ISNUMBER(C13),C13-2400,"") | G13: =[1]Расчет_металла!AD97 | I13: =[1]Расчет_металла!X160 -> 60*40*1,5 | J13: =[1]Расчет_металла!Y160 -> 6 | K13: =[1]Расчет_металла!Z160 -> 88700 | L13: =IF(ISNUMBER(K13),K13-500,"") -> 88200 | M13: =IF(ISNUMBER(K13),K13-1300,"") -> 87400 | N13: =IF(ISNUMBER(K13),K13-2400,"") -> 86300 | O13: =[1]Расчет_металла!AD160 -> 199.575
A14: =[1]Расчет_металла!X98 -> 20*10*1,2 | B14: =[1]Расчет_металла!Y98 -> 6 | C14: =[1]Расчет_металла!Z98 -> 89800 | D14: =IF(ISNUMBER(C14),C14-500,"") -> 89300 | E14: =IF(ISNUMBER(C14),C14-1300,"") -> 88500 | F14: =IF(ISNUMBER(C14),C14-2400,"") -> 87400 | G14: =[1]Расчет_металла!AD98 -> 44.9 | I14: =[1]Расчет_металла!X161 -> 60*40*2 | J14: =[1]Расчет_металла!Y161 -> 6 | K14: =[1]Расчет_металла!Z161 -> 77600 | L14: =IF(ISNUMBER(K14),K14-500,"") -> 77100 | M14: =IF(ISNUMBER(K14),K14-1300,"") -> 76300 | N14: =IF(ISNUMBER(K14),K14-2400,"") -> 75200 | O14: =[1]Расчет_металла!AD161 -> 230.21333
A15: =[1]Расчет_металла!X99 -> ОЦИН_20*20*1,2 | B15: =[1]Расчет_металла!Y99 -> 6 | C15: =[1]Расчет_металла!Z99 | D15: =IF(ISNUMBER(C15),C15-500,"") | E15: =IF(ISNUMBER(C15),C15-1300,"") | F15: =IF(ISNUMBER(C15),C15-2400,"") | G15: =[1]Расчет_металла!AD99 | I15: =[1]Расчет_металла!X162 -> 60*40*3 | J15: =[1]Расчет_металла!Y162 -> 6 | K15: =[1]Расчет_металла!Z162 -> 71500 | L15: =IF(ISNUMBER(K15),K15-500,"") -> 71000 | M15: =IF(ISNUMBER(K15),K15-1300,"") -> 70200 | N15: =IF(ISNUMBER(K15),K15-2400,"") -> 69100 | O15: =[1]Расчет_металла!AD162 -> 307.45
A16: =[1]Расчет_металла!X100 -> 20*20*1,2 | B16: =[1]Расчет_металла!Y100 -> 6 | C16: =[1]Расчет_металла!Z100 -> 91900 | D16: =IF(ISNUMBER(C16),C16-500,"") -> 91400 | E16: =IF(ISNUMBER(C16),C16-1300,"") -> 90600 | F16: =IF(ISNUMBER(C16),C16-2400,"") -> 89500 | G16: =[1]Расчет_металла!AD100 -> 62.798333 | I16: =[1]Расчет_металла!X163 -> 60*40*4 | J16: =[1]Расчет_металла!Y163 -> 6 | K16: =[1]Расчет_металла!Z163 -> 71500 | L16: =IF(ISNUMBER(K16),K16-500,"") -> 71000 | M16: =IF(ISNUMBER(K16),K16-1300,"") -> 70200 | N16: =IF(ISNUMBER(K16),K16-2400,"") -> 69100 | O16: =[1]Расчет_металла!AD163 -> 398.01667
A17: =[1]Расчет_металла!X101 -> 20*20*1,5 | B17: =[1]Расчет_металла!Y101 -> 6 | C17: =[1]Расчет_металла!Z101 -> 81300 | D17: =IF(ISNUMBER(C17),C17-500,"") -> 80800 | E17: =IF(ISNUMBER(C17),C17-1300,"") -> 80000 | F17: =IF(ISNUMBER(C17),C17-2400,"") -> 78900 | G17: =[1]Расчет_металла!AD101 -> 69.105 | I17: =[1]Расчет_металла!X164 -> 60*60*1,5 | J17: =[1]Расчет_металла!Y164 -> 6 | K17: =[1]Расчет_металла!Z164 -> 85500 | L17: =IF(ISNUMBER(K17),K17-500,"") -> 85000 | M17: =IF(ISNUMBER(K17),K17-1300,"") -> 84200 | N17: =IF(ISNUMBER(K17),K17-2400,"") -> 83100 | O17: =[1]Расчет_металла!AD164 -> 232.275
A18: =[1]Расчет_металла!X102 -> 20*20*2 | B18: =[1]Расчет_металла!Y102 -> 6 | C18: =[1]Расчет_металла!Z102 -> 78400 | D18: =IF(ISNUMBER(C18),C18-500,"") -> 77900 | E18: =IF(ISNUMBER(C18),C18-1300,"") -> 77100 | F18: =IF(ISNUMBER(C18),C18-2400,"") -> 76000 | G18: =[1]Расчет_металла!AD102 -> 84.933333 | I18: =[1]Расчет_металла!X165 -> 60*60*2 | J18: =[1]Расчет_металла!Y165 -> 6 | K18: =[1]Расчет_металла!Z165 -> 77100 | L18: =IF(ISNUMBER(K18),K18-500,"") -> 76600 | M18: =IF(ISNUMBER(K18),K18-1300,"") -> 75800 | N18: =IF(ISNUMBER(K18),K18-2400,"") -> 74700 | O18: =[1]Расчет_металла!AD165 -> 276.275
A19: =[1]Расчет_металла!X103 -> 25*15*1,2 | B19: =[1]Расчет_металла!Y103 -> 6 | C19: =[1]Расчет_металла!Z103 -> 92800 | D19: =IF(ISNUMBER(C19),C19-500,"") -> 92300 | E19: =IF(ISNUMBER(C19),C19-1300,"") -> 91500 | F19: =IF(ISNUMBER(C19),C19-2400,"") -> 90400 | G19: =[1]Расчет_металла!AD103 -> 63.413333 | I19: =[1]Расчет_металла!X166 -> 60*60*3 | J19: =[1]Расчет_металла!Y166 -> 6 | K19: =[1]Расчет_металла!Z166 -> 71500 | L19: =IF(ISNUMBER(K19),K19-500,"") -> 71000 | M19: =IF(ISNUMBER(K19),K19-1300,"") -> 70200 | N19: =IF(ISNUMBER(K19),K19-2400,"") -> 69100 | O19: =[1]Расчет_металла!AD166 -> 375.375
A20: =[1]Расчет_металла!X104 -> 25*15*1,5 | B20: =[1]Расчет_металла!Y104 -> 6 | C20: =[1]Расчет_металла!Z104 | D20: =IF(ISNUMBER(C20),C20-500,"") | E20: =IF(ISNUMBER(C20),C20-1300,"") | F20: =IF(ISNUMBER(C20),C20-2400,"") | G20: =[1]Расчет_металла!AD104 | I20: =[1]Расчет_металла!X167 -> 60*60*4 | J20: =[1]Расчет_металла!Y167 -> 6 | K20: =[1]Расчет_металла!Z167 -> 72300 | L20: =IF(ISNUMBER(K20),K20-500,"") -> 71800 | M20: =IF(ISNUMBER(K20),K20-1300,"") -> 71000 | N20: =IF(ISNUMBER(K20),K20-2400,"") -> 69900 | O20: =[1]Расчет_металла!AD167 -> 492.845
... A62: =[1]Расчет_металла!X146 -> 50*25*1,5 | B62: =[1]Расчет_металла!Y146 -> 6 | C62: =[1]Расчет_металла!Z146 -> 81500 | D62: =IF(ISNUMBER(C62),C62-500,"") -> 81000 | E62: =IF(ISNUMBER(C62),C62-1300,"") -> 80200 | F62: =IF(ISNUMBER(C62),C62-2400,"") -> 79100 | G62: =[1]Расчет_металла!AD146 -> 135.83333 | I62: =[1]Расчет_металла!X209 -> 180*140*6 | J62: =[1]Расчет_металла!Y209 -> 6 | K62: =[1]Расчет_металла!Z209 | L62: =IF(ISNUMBER(K62),K62-500,"") | M62: =IF(ISNUMBER(K62),K62-1300,"") | N62: =IF(ISNUMBER(K62),K62-2400,"") | O62: =[1]Расчет_металла!AD209
A63: =[1]Расчет_металла!X147 -> 50*25*2 | B63: =[1]Расчет_металла!Y147 -> 6 | C63: =[1]Расчет_металла!Z147 -> 77600 | D63: =IF(ISNUMBER(C63),C63-500,"") -> 77100 | E63: =IF(ISNUMBER(C63),C63-1300,"") -> 76300 | F63: =IF(ISNUMBER(C63),C63-2400,"") -> 75200 | G63: =[1]Расчет_металла!AD147 -> 168.13333 | I63: 120*40*3,0 | L63: =IF(ISNUMBER(K63),K63-500,"") | M63: =IF(ISNUMBER(K63),K63-1300,"") | N63: =IF(ISNUMBER(K63),K63-2400,"")
A64: =[1]Расчет_металла!X148 -> 50*25*3 | B64: =[1]Расчет_металла!Y148 -> 6 | C64: =[1]Расчет_металла!Z148 -> 72700 | D64: =IF(ISNUMBER(C64),C64-500,"") -> 72200 | E64: =IF(ISNUMBER(C64),C64-1300,"") -> 71400 | F64: =IF(ISNUMBER(C64),C64-2400,"") -> 70300 | G64: =[1]Расчет_металла!AD148 -> 227.79333 | I64: 120*60*3,0 | J64: 6 | L64: =IF(ISNUMBER(K64),K64-500,"") | M64: =IF(ISNUMBER(K64),K64-1300,"") | N64: =IF(ISNUMBER(K64),K64-2400,"")
A65: =[1]Расчет_металла!X149 -> 50*30*1,2 | B65: =[1]Расчет_металла!Y149 -> 6 | C65: =[1]Расчет_металла!Z149 | D65: =IF(ISNUMBER(C65),C65-500,"") | E65: =IF(ISNUMBER(C65),C65-1300,"") | F65: =IF(ISNUMBER(C65),C65-2400,"") | G65: =[1]Расчет_металла!AD149 | I65: 120*60*4,0 | J65: 12 | L65: =IF(ISNUMBER(K65),K65-500,"") | M65: =IF(ISNUMBER(K65),K65-1300,"") | N65: =IF(ISNUMBER(K65),K65-2400,"")
A66: =[1]Расчет_металла!X150 -> 50*30*1,5 | B66: =[1]Расчет_металла!Y150 -> 6 | C66: =[1]Расчет_металла!Z150 | D66: =IF(ISNUMBER(C66),C66-500,"") | E66: =IF(ISNUMBER(C66),C66-1300,"") | F66: =IF(ISNUMBER(C66),C66-2400,"") | G66: =[1]Расчет_металла!AD150 | I66: 120*80*3,0 | J66: 12 | L66: =IF(ISNUMBER(K66),K66-500,"") | M66: =IF(ISNUMBER(K66),K66-1300,"") | N66: =IF(ISNUMBER(K66),K66-2400,"")
A67: =[1]Расчет_металла!X151 -> 50*30*2 | B67: =[1]Расчет_металла!Y151 -> 6 | C67: =[1]Расчет_металла!Z151 -> 77800 | D67: =IF(ISNUMBER(C67),C67-500,"") -> 77300 | E67: =IF(ISNUMBER(C67),C67-1300,"") -> 76500 | F67: =IF(ISNUMBER(C67),C67-2400,"") -> 75400 | G67: =[1]Расчет_металла!AD151 -> 180.23667 | I67: 120*80*4,0 | J67: 12 | L67: =IF(ISNUMBER(K67),K67-500,"") | M67: =IF(ISNUMBER(K67),K67-1300,"") | N67: =IF(ISNUMBER(K67),K67-2400,"")
A68: =[1]Расчет_металла!X152 -> 50*50*1,5 | B68: =[1]Расчет_металла!Y152 -> 6 10,5 | C68: =[1]Расчет_металла!Z152 -> 82200 | D68: =IF(ISNUMBER(C68),C68-500,"") -> 81700 | E68: =IF(ISNUMBER(C68),C68-1300,"") -> 80900 | F68: =IF(ISNUMBER(C68),C68-2400,"") -> 79800 | G68: =[1]Расчет_металла!AD152 -> 184.95 | I68: 120*120*2,5 | L68: =IF(ISNUMBER(K68),K68-500,"") | M68: =IF(ISNUMBER(K68),K68-1300,"") | N68: =IF(ISNUMBER(K68),K68-2400,"")
A69: =[1]Расчет_металла!X153 -> 50*50*2 | B69: =[1]Расчет_металла!Y153 -> 6 | C69: =[1]Расчет_металла!Z153 -> 77700 | D69: =IF(ISNUMBER(C69),C69-500,"") -> 77200 | E69: =IF(ISNUMBER(C69),C69-1300,"") -> 76400 | F69: =IF(ISNUMBER(C69),C69-2400,"") -> 75300 | G69: =[1]Расчет_металла!AD153 -> 230.51 | I69: 120*120*3,0 | J69: 12 | L69: =IF(ISNUMBER(K69),K69-500,"") | M69: =IF(ISNUMBER(K69),K69-1300,"") | N69: =IF(ISNUMBER(K69),K69-2400,"")
A70: =[1]Расчет_металла!X154 -> 50*50*3 | B70: =[1]Расчет_металла!Y154 -> 6 | C70: =[1]Расчет_металла!Z154 -> 71500 | D70: =IF(ISNUMBER(C70),C70-500,"") -> 71000 | E70: =IF(ISNUMBER(C70),C70-1300,"") -> 70200 | F70: =IF(ISNUMBER(C70),C70-2400,"") -> 69100 | G70: =[1]Расчет_металла!AD154 -> 308.64167 | I70: 120*120*4,0 | J70: 12 | L70: =IF(ISNUMBER(K70),K70-500,"") | M70: =IF(ISNUMBER(K70),K70-1300,"") | N70: =IF(ISNUMBER(K70),K70-2400,"")
A71: =[1]Расчет_металла!X155 -> 50*50*4 | B71: =[1]Расчет_металла!Y155 -> 6 | C71: =[1]Расчет_металла!Z155 -> 71500 | D71: =IF(ISNUMBER(C71),C71-500,"") -> 71000 | E71: =IF(ISNUMBER(C71),C71-1300,"") -> 70200 | F71: =IF(ISNUMBER(C71),C71-2400,"") -> 69100 | G71: =[1]Расчет_металла!AD155 -> 398.01667 | I71: 140*60*4,0 | L71: =IF(ISNUMBER(K71),K71-500,"") | M71: =IF(ISNUMBER(K71),K71-1300,"") | N71: =IF(ISNUMBER(K71),K71-2400,"")

Sheet труба_разная
A2: ООО «СтройОптТоргСервис» | K2: ВНИМАНИЕ! Уважаемые покупатели, цены действительны при оплате наличными или по СБП, при оплате картой стоимость увеличивается на 2,5%
A3: г.Самара, ул.Береговая, 3
A4: Тел.: (846)955-05-00, 955-09-46, 8-917-157-81-78, 8-917-157-81-76
A5: E-mail: sots63@yandex.ru www.sots-samara.com
A7: Диаметр | B7: Длина | C7: Цена | D7: Цена | E7: Цена | F7: Цена | G7: Цена | I7: Диаметр | J7: Длина | K7: Цена | L7: Цена | M7: Цена | N7: Цена | O7: Цена
A8: мм | B8: метр | C8: розница | D8: 0,5тн-1т | E8: 1тн-2тн | F8: от 2тн | G8: м/п | I8: мм | J8: метр | K8: розница | L8: 0,5тн-1т | M8: 1тн-2тн | N8: от 2тн | O8: м/п
A9: Трубы стальные эл.\св. ГОСТ 10704 10705 | I9: Трубы тонкостенные Гост 10704-91,10705-80
A10: =[1]Расчет_металла!X4 -> 57*2 | B10: =[1]Расчет_металла!Y4 -> 6 | C10: =[1]Расчет_металла!Z4 -> 79800 | D10: =IF(ISNUMBER(C10),C10-500,"") -> 79300 | E10: =IF(ISNUMBER(C10),C10-1300,"") -> 78500 | F10: =IF(ISNUMBER(C10),C10-2400,"") -> 77400 | G10: =[1]Расчет_металла!AD4 -> 216.79 | I10: =[1]Расчет_металла!X54 -> 10*0,8 | J10: =[1]Расчет_металла!Y54 -> 6 | K10: =[1]Расчет_металла!Z54 | L10: =IF(ISNUMBER(K10),K10-500,"") | M10: =IF(ISNUMBER(K10),K10-1300,"") | N10: =IF(ISNUMBER(K10),K10-2400,"") | O10: =[1]Расчет_металла!AD54
A11: =[1]Расчет_металла!X5 -> 57*3 | B11: =[1]Расчет_металла!Y5 -> 6 \ 11,4 \ 12 | C11: =[1]Расчет_металла!Z5 -> 72100 | D11: =IF(ISNUMBER(C11),C11-500,"") -> 71600 | E11: =IF(ISNUMBER(C11),C11-1300,"") -> 70800 | F11: =IF(ISNUMBER(C11),C11-2400,"") -> 69700 | G11: =[1]Расчет_металла!AD5 -> 288.4 | I11: =[1]Расчет_металла!X55 -> 10*1 | J11: =[1]Расчет_металла!Y55 -> 6 | K11: =[1]Расчет_металла!Z55 | L11: =IF(ISNUMBER(K11),K11-500,"") | M11: =IF(ISNUMBER(K11),K11-1300,"") | N11: =IF(ISNUMBER(K11),K11-2400,"") | O11: =[1]Расчет_металла!AD55
A12: =[1]Расчет_металла!X6 -> 57*3,5 | B12: =[1]Расчет_металла!Y6 -> 11,4 12 | C12: =[1]Расчет_металла!Z6 -> 72400 | D12: =IF(ISNUMBER(C12),C12-500,"") -> 71900 | E12: =IF(ISNUMBER(C12),C12-1300,"") -> 71100 | F12: =IF(ISNUMBER(C12),C12-2400,"") -> 70000 | G12: =[1]Расчет_металла!AD6 -> 334.69123 | I12: =[1]Расчет_металла!X56 -> 10*1,2 | J12: =[1]Расчет_металла!Y56 -> 6 | K12: =[1]Расчет_металла!Z56 -> 109500 | L12: =IF(ISNUMBER(K12),K12-500,"") -> 109000 | M12: =IF(ISNUMBER(K12),K12-1300,"") -> 108200 | N12: =IF(ISNUMBER(K12),K12-2400,"") -> 107100 | O12: =[1]Расчет_металла!AD56 -> 29.2
A13: =[1]Расчет_металла!X7 -> 57*4 | B13: =[1]Расчет_металла!Y7 -> 6 12 | C13: =[1]Расчет_металла!Z7 -> 72300 | D13: =IF(ISNUMBER(C13),C13-500,"") -> 71800 | E13: =IF(ISNUMBER(C13),C13-1300,"") -> 71000 | F13: =IF(ISNUMBER(C13),C13-2400,"") -> 69900 | G13: =[1]Расчет_металла!AD7 -> 378.37 | I13: =[1]Расчет_металла!X57 -> 12*1,2 | J13: =[1]Расчет_металла!Y57 -> 6 | K13: =[1]Расчет_металла!Z57 | L13: =IF(ISNUMBER(K13),K13-500,"") | M13: =IF(ISNUMBER(K13),K13-1300,"") | N13: =IF(ISNUMBER(K13),K13-2400,"") | O13: =[1]Расчет_металла!AD57
A14: =[1]Расчет_металла!X9 -> 76*3 | B14: =[1]Расчет_металла!Y9 -> 11,4 \12\ | C14: =[1]Расчет_металла!Z9 -> 72100 | D14: =IF(ISNUMBER(C14),C14-500,"") -> 71600 | E14: =IF(ISNUMBER(C14),C14-1300,"") -> 70800 | F14: =IF(ISNUMBER(C14),C14-2400,"") -> 69700 | G14: =[1]Расчет_металла!AD9 -> 389.59298 | I14: =[1]Расчет_металла!X58 -> 12*1,5 | J14: =[1]Расчет_металла!Y58 -> 5,8 | K14: =[1]Расчет_металла!Z58 | L14: =IF(ISNUMBER(K14),K14-500,"") | M14: =IF(ISNUMBER(K14),K14-1300,"") | N14: =IF(ISNUMBER(K14),K14-2400,"") | O14: =[1]Расчет_металла!AD58
A15: =[1]Расчет_металла!X10 -> 76*3,5 | B15: =[1]Расчет_металла!Y10 -> 11,4 12 | C15: =[1]Расчет_металла!Z10 -> 72200 | D15: =IF(ISNUMBER(C15),C15-500,"") -> 71700 | E15: =IF(ISNUMBER(C15),C15-1300,"") -> 70900 | F15: =IF(ISNUMBER(C15),C15-2400,"") -> 69800 | G15: =[1]Расчет_металла!AD10 -> 452.2 | I15: =[1]Расчет_металла!X59 -> 14*1,2 | J15: =[1]Расчет_металла!Y59 -> 6 | K15: =[1]Расчет_металла!Z59 -> 95400 | L15: =IF(ISNUMBER(K15),K15-500,"") -> 94900 | M15: =IF(ISNUMBER(K15),K15-1300,"") -> 94100 | N15: =IF(ISNUMBER(K15),K15-2400,"") -> 93000 | O15: =[1]Расчет_металла!AD59 -> 36.57
A16: =[1]Расчет_металла!X11 -> 76*4 | B16: =[1]Расчет_металла!Y11 -> 12 | C16: =[1]Расчет_металла!Z11 -> 72900 | D16: =IF(ISNUMBER(C16),C16-500,"") -> 72400 | E16: =IF(ISNUMBER(C16),C16-1300,"") -> 71600 | F16: =IF(ISNUMBER(C16),C16-2400,"") -> 70500 | G16: =[1]Расчет_металла!AD11 -> 517.59 | I16: =[1]Расчет_металла!X60 -> 14*1,5 | J16: =[1]Расчет_металла!Y60 -> 6 | K16: =[1]Расчет_металла!Z60 -> 89900 | L16: =IF(ISNUMBER(K16),K16-500,"") -> 89400 | M16: =IF(ISNUMBER(K16),K16-1300,"") -> 88600 | N16: =IF(ISNUMBER(K16),K16-2400,"") -> 87500 | O16: =[1]Расчет_металла!AD60 -> 41.953333
A17: =[1]Расчет_металла!X12 -> 89*2 | B17: =[1]Расчет_металла!Y12 -> 10,5 12 | C17: =[1]Расчет_металла!Z12 | D17: =IF(ISNUMBER(C17),C17-500,"") | E17: =IF(ISNUMBER(C17),C17-1300,"") | F17: =IF(ISNUMBER(C17),C17-2400,"") | G17: =[1]Расчет_металла!AD12 | I17: =[1]Расчет_металла!X61 -> 16*1,2 | J17: =[1]Расчет_металла!Y61 -> 6 | K17: =[1]Расчет_металла!Z61 -> 89900 | L17: =IF(ISNUMBER(K17),K17-500,"") -> 89400 | M17: =IF(ISNUMBER(K17),K17-1300,"") -> 88600 | N17: =IF(ISNUMBER(K17),K17-2400,"") -> 87500 | O17: =[1]Расчет_металла!AD61 -> 38.956667
A18: =[1]Расчет_металла!X13 -> 89*3 | B18: =[1]Расчет_металла!Y13 -> 11,4 12 | C18: =[1]Расчет_металла!Z13 -> 74900 | D18: =IF(ISNUMBER(C18),C18-500,"") -> 74400 | E18: =IF(ISNUMBER(C18),C18-1300,"") -> 73600 | F18: =IF(ISNUMBER(C18),C18-2400,"") -> 72500 | G18: =[1]Расчет_металла!AD13 -> 476.33772 | I18: =[1]Расчет_металла!X62 -> 16*1,5 | J18: =[1]Расчет_металла!Y62 -> 6 | K18: =[1]Расчет_металла!Z62 -> 89900 | L18: =IF(ISNUMBER(K18),K18-500,"") -> 89400 | M18: =IF(ISNUMBER(K18),K18-1300,"") -> 88600 | N18: =IF(ISNUMBER(K18),K18-2400,"") -> 87500 | O18: =[1]Расчет_металла!AD62 -> 47.946667
A19: =[1]Расчет_металла!X14 -> 89*3,5 | B19: =[1]Расчет_металла!Y14 -> 11,03 11,4 12 | C19: =[1]Расчет_металла!Z14 -> 72400 | D19: =IF(ISNUMBER(C19),C19-500,"") -> 71900 | E19: =IF(ISNUMBER(C19),C19-1300,"") -> 71100 | F19: =IF(ISNUMBER(C19),C19-2400,"") -> 70000 | G19: =[1]Расчет_металла!AD14 -> 534.30281 | I19: =[1]Расчет_металла!X63 -> 18*1,2 | J19: =[1]Расчет_металла!Y63 -> 6 | K19: =[1]Расчет_металла!Z63 -> 89800 | L19: =IF(ISNUMBER(K19),K19-500,"") -> 89300 | M19: =IF(ISNUMBER(K19),K19-1300,"") -> 88500 | N19: =IF(ISNUMBER(K19),K19-2400,"") -> 87400 | O19: =[1]Расчет_металла!AD63 -> 46.396667
A20: =[1]Расчет_металла!X15 -> 89*4 | B20: =[1]Расчет_металла!Y15 -> 11,4 12 | C20: =[1]Расчет_металла!Z15 -> 72300 | D20: =IF(ISNUMBER(C20),C20-500,"") -> 71800 | E20: =IF(ISNUMBER(C20),C20-1300,"") -> 71000 | F20: =IF(ISNUMBER(C20),C20-2400,"") -> 69900 | G20: =[1]Расчет_металла!AD15 -> 605.67105 | I20: =[1]Расчет_металла!X64 -> 18*1,5 | J20: =[1]Расчет_металла!Y64 -> 6 | K20: =[1]Расчет_металла!Z64 -> 91500 | L20: =IF(ISNUMBER(K20),K20-500,"") -> 91000 | M20: =IF(ISNUMBER(K20),K20-1300,"") -> 90200 | N20: =IF(ISNUMBER(K20),K20-2400,"") -> 89100 | O20: =[1]Расчет_металла!AD64 -> 56.425
A21: =[1]Расчет_металла!X16 -> 102*3 | B21: =[1]Расчет_металла!Y16 -> 11 12 | C21: =[1]Расчет_металла!Z16 | D21: =IF(ISNUMBER(C21),C21-500,"") | E21: =IF(ISNUMBER(C21),C21-1300,"") | F21: =IF(ISNUMBER(C21),C21-2400,"") | G21: =[1]Расчет_металла!AD16 | I21: =[1]Расчет_металла!X65 -> 20*1 | J21: =[1]Расчет_металла!Y65 -> 6 | K21: =[1]Расчет_металла!Z65 | L21: =IF(ISNUMBER(K21),K21-500,"") | M21: =IF(ISNUMBER(K21),K21-1300,"") | N21: =IF(ISNUMBER(K21),K21-2400,"") | O21: =[1]Расчет_металла!AD65
A22: =[1]Расчет_металла!X17 -> 102*3,5 | B22: =[1]Расчет_металла!Y17 -> 11,4 \ 12 | C22: =[1]Расчет_металла!Z17 -> 72400 | D22: =IF(ISNUMBER(C22),C22-500,"") -> 71900 | E22: =IF(ISNUMBER(C22),C22-1300,"") -> 71100 | F22: =IF(ISNUMBER(C22),C22-2400,"") -> 70000 | G22: =[1]Расчет_металла!AD17 -> 615.4 | I22: =[1]Расчет_металла!X66 -> 20*1,2 | J22: =[1]Расчет_металла!Y66 -> 6 | K22: =[1]Расчет_металла!Z66 -> 89900 | L22: =IF(ISNUMBER(K22),K22-500,"") -> 89400 | M22: =IF(ISNUMBER(K22),K22-1300,"") -> 88600 | N22: =IF(ISNUMBER(K22),K22-2400,"") -> 87500 | O22: =[1]Расчет_металла!AD66 -> 50.943333
A23: =[1]Расчет_металла!X18 -> 102*4 | B23: =[1]Расчет_металла!Y18 -> 12 12 | C23: =[1]Расчет_металла!Z18 | D23: =IF(ISNUMBER(C23),C23-500,"") | E23: =IF(ISNUMBER(C23),C23-1300,"") | F23: =IF(ISNUMBER(C23),C23-2400,"") | G23: =[1]Расчет_металла!AD18 | I23: =[1]Расчет_металла!X67 -> 20*1,5 | J23: =[1]Расчет_металла!Y67 -> 6 | K23: =[1]Расчет_металла!Z67 -> 89900 | L23: =IF(ISNUMBER(K23),K23-500,"") -> 89400 | M23: =IF(ISNUMBER(K23),K23-1300,"") -> 88600 | N23: =IF(ISNUMBER(K23),K23-2400,"") -> 87500 | O23: =[1]Расчет_металла!AD67 -> 61.431667
A24: =[1]Расчет_металла!X19 -> 108*3 | B24: =[1]Расчет_металла!Y19 -> 11,4 \12 | C24: =[1]Расчет_металла!Z19 -> 73100 | D24: =IF(ISNUMBER(C24),C24-500,"") -> 72600 | E24: =IF(ISNUMBER(C24),C24-1300,"") -> 71800 | F24: =IF(ISNUMBER(C24),C24-2400,"") -> 70700 | G24: =[1]Расчет_металла!AD19 -> 568.12807 | I24: =[1]Расчет_металла!X68 -> 22*1,2 | J24: =[1]Расчет_металла!Y68 -> 6 | K24: =[1]Расчет_металла!Z68 -> 94100 | L24: =IF(ISNUMBER(K24),K24-500,"") -> 93600 | M24: =IF(ISNUMBER(K24),K24-1300,"") -> 92800 | N24: =IF(ISNUMBER(K24),K24-2400,"") -> 91700 | O24: =[1]Расчет_металла!AD68 -> 58.028333
A25: =[1]Расчет_металла!X20 -> 108*3,5 | B25: =[1]Расчет_металла!Y20 -> 11,4 12 | C25: =[1]Расчет_металла!Z20 -> 72400 | D25: =IF(ISNUMBER(C25),C25-500,"") -> 71900 | E25: =IF(ISNUMBER(C25),C25-1300,"") -> 71100 | F25: =IF(ISNUMBER(C25),C25-2400,"") -> 70000 | G25: =[1]Расчет_металла!AD20 -> 652.87018 | I25: =[1]Расчет_металла!X69 -> 22*1,5 | J25: =[1]Расчет_металла!Y69 -> 6 | K25: =[1]Расчет_металла!Z69 -> 91800 | L25: =IF(ISNUMBER(K25),K25-500,"") -> 91300 | M25: =IF(ISNUMBER(K25),K25-1300,"") -> 90500 | N25: =IF(ISNUMBER(K25),K25-2400,"") -> 89400 | O25: =[1]Расчет_металла!AD69 -> 68.85
... A41: =[1]Расчет_металла!X36 -> 219*6 | B41: =[1]Расчет_металла!Y36 -> 12 \ | C41: =[1]Расчет_металла!Z36 -> 76700 | D41: =IF(ISNUMBER(C41),C41-500,"") -> 76200 | E41: =IF(ISNUMBER(C41),C41-1300,"") -> 75400 | F41: =IF(ISNUMBER(C41),C41-2400,"") -> 74300 | G41: =[1]Расчет_металла!AD36 -> 2417.3283 | I41: =[1]Расчет_металла!X85 -> 51*1,2 | J41: =[1]Расчет_металла!Y85 -> 6 | K41: =[1]Расчет_металла!Z85 | L41: =IF(ISNUMBER(K41),K41-500,"") | M41: =IF(ISNUMBER(K41),K41-1300,"") | N41: =IF(ISNUMBER(K41),K41-2400,"") | O41: =[1]Расчет_металла!AD85
I42: =[1]Расчет_металла!X86 -> 51*1,5 | J42: =[1]Расчет_металла!Y86 -> 6 | K42: =[1]Расчет_металла!Z86 -> 89900 | L42: =IF(ISNUMBER(K42),K42-500,"") -> 89400 | M42: =IF(ISNUMBER(K42),K42-1300,"") -> 88600 | N42: =IF(ISNUMBER(K42),K42-2400,"") -> 87500 | O42: =[1]Расчет_металла!AD86 -> 164.81667
I43: =[1]Расчет_металла!X87 -> 51*2 | J43: =[1]Расчет_металла!Y87 -> 6 | K43: =[1]Расчет_металла!Z87 -> 79900 | L43: =IF(ISNUMBER(K43),K43-500,"") -> 79400 | M43: =IF(ISNUMBER(K43),K43-1300,"") -> 78600 | N43: =IF(ISNUMBER(K43),K43-2400,"") -> 77500 | O43: =[1]Расчет_металла!AD87 -> 194.42333
I44: =[1]Расчет_металла!X88 -> 60*2 | J44: =[1]Расчет_металла!Y88 -> 6 | K44: =[1]Расчет_металла!Z88 | L44: =IF(ISNUMBER(K44),K44-500,"") | M44: =IF(ISNUMBER(K44),K44-1300,"") | N44: =IF(ISNUMBER(K44),K44-2400,"") | O44: =[1]Расчет_металла!AD88
A45: Трубы стальные ВГП (водогазопроводные) ГОСТ 3262-75 | I45: =[1]Расчет_металла!X89 -> 63,5*1,5 | J45: =[1]Расчет_металла!Y89 -> 6 | K45: =[1]Расчет_металла!Z89 | L45: =IF(ISNUMBER(K45),K45-500,"") | M45: =IF(ISNUMBER(K45),K45-1300,"") | N45: =IF(ISNUMBER(K45),K45-2400,"") | O45: =[1]Расчет_металла!AD89
A46: =[1]Расчет_металла!X40 -> 15 (½)*2,8 | B46: =[1]Расчет_металла!Y40 -> 6 | C46: =[1]Расчет_металла!Z40 -> 75100 | D46: =IF(ISNUMBER(C46),C46-500,"") -> 74600 | E46: =IF(ISNUMBER(C46),C46-1300,"") -> 73800 | F46: =IF(ISNUMBER(C46),C46-2400,"") -> 72700 | G46: =[1]Расчет_металла!AD40 -> 96.378333
A47: =[1]Расчет_металла!X41 -> 20 (¾)*2,8 | B47: =[1]Расчет_металла!Y41 -> 6 | C47: =[1]Расчет_металла!Z41 -> 74900 | D47: =IF(ISNUMBER(C47),C47-500,"") -> 74400 | E47: =IF(ISNUMBER(C47),C47-1300,"") -> 73600 | F47: =IF(ISNUMBER(C47),C47-2400,"") -> 72500 | G47: =[1]Расчет_металла!AD41 -> 124.83333 | I47: Диаметр | J47: Длина | K47: Цена | L47: Цена | M47: Цена | N47: Цена | O47: Цена
A48: =[1]Расчет_металла!X42 -> 25 (дюйм)*2 | B48: =[1]Расчет_металла!Y42 -> 6 | C48: =[1]Расчет_металла!Z42 | D48: =IF(ISNUMBER(C48),C48-500,"") | E48: =IF(ISNUMBER(C48),C48-1300,"") | F48: =IF(ISNUMBER(C48),C48-2400,"") | G48: =[1]Расчет_металла!AD42 | I48: мм | J48: метр | K48: розница | L48: 0,5тн-1т | M48: 1тн-2тн | N48: от 2тн | O48: м/п
A49: =[1]Расчет_металла!X43 -> 25 (дюйм)*2,8 | B49: =[1]Расчет_металла!Y43 -> 6 | C49: =[1]Расчет_металла!Z43 -> 73900 | D49: =IF(ISNUMBER(C49),C49-500,"") -> 73400 | E49: =IF(ISNUMBER(C49),C49-1300,"") -> 72600 | F49: =IF(ISNUMBER(C49),C49-2400,"") -> 71500 | G49: =[1]Расчет_металла!AD43 -> 157.65333 | I49: Уголок г\к ГОСТ 8509-93
A50: =[1]Расчет_металла!X44 -> 25 (дюйм)*3,2 | B50: =[1]Расчет_металла!Y44 -> 6 | C50: =[1]Расчет_металла!Z44 -> 73900 | D50: =IF(ISNUMBER(C50),C50-500,"") -> 73400 | E50: =IF(ISNUMBER(C50),C50-1300,"") -> 72600 | F50: =IF(ISNUMBER(C50),C50-2400,"") -> 71500 | G50: =[1]Расчет_металла!AD44 -> 177.36 | I50: =[1]Лист1!Y14 -> 25*25*3 | J50: =[1]Лист1!Z14 -> 6 | K50: =[1]Лист1!AA14 -> 103900 | L50: =IF(ISNUMBER(K50),K50-500,"") -> 103400 | M50: =IF(ISNUMBER(K50),K50-1300,"") -> 102600 | N50: =IF(ISNUMBER(K50),K50-2400,"") -> 101500 | O50: =[1]Лист1!AE14 -> 126.41167
A51: =[1]Расчет_металла!X45 -> 32(1 ¼ )*2,8 | B51: =[1]Расчет_металла!Y45 -> 6 | C51: =[1]Расчет_металла!Z45 -> 73900 | D51: =IF(ISNUMBER(C51),C51-500,"") -> 73400 | E51: =IF(ISNUMBER(C51),C51-1300,"") -> 72600 | F51: =IF(ISNUMBER(C51),C51-2400,"") -> 71500 | G51: =[1]Расчет_металла!AD45 -> 201.99333 | I51: =[1]Лист1!Y15 -> 25*25*4 | J51: =[1]Лист1!Z15 -> 6 | K51: =[1]Лист1!AA15 -> 101500 | L51: =IF(ISNUMBER(K51),K51-500,"") -> 101000 | M51: =IF(ISNUMBER(K51),K51-1300,"") -> 100200 | N51: =IF(ISNUMBER(K51),K51-2400,"") -> 99100 | O51: =[1]Лист1!AE15 -> 148.86667
A52: =[1]Расчет_металла!X46 -> 32(1 ¼ )*3,2 | B52: =[1]Расчет_металла!Y46 -> 6 | C52: =[1]Расчет_металла!Z46 -> 73900 | D52: =IF(ISNUMBER(C52),C52-500,"") -> 73400 | E52: =IF(ISNUMBER(C52),C52-1300,"") -> 72600 | F52: =IF(ISNUMBER(C52),C52-2400,"") -> 71500 | G52: =[1]Расчет_металла!AD46 -> 227.85833 | I52: =[1]Лист1!Y16 -> 32*32*3 | J52: =[1]Лист1!Z16 -> 6 | K52: =[1]Лист1!AA16 -> 100300 | L52: =IF(ISNUMBER(K52),K52-500,"") -> 99800 | M52: =IF(ISNUMBER(K52),K52-1300,"") -> 99000 | N52: =IF(ISNUMBER(K52),K52-2400,"") -> 97900 | O52: =[1]Лист1!AE16 -> 160.48
A53: =[1]Расчет_металла!X47 -> 40(1,5)*3 | B53: =[1]Расчет_металла!Y47 -> 6 | C53: =[1]Расчет_металла!Z47 -> 73900 | D53: =IF(ISNUMBER(C53),C53-500,"") -> 73400 | E53: =IF(ISNUMBER(C53),C53-1300,"") -> 72600 | F53: =IF(ISNUMBER(C53),C53-2400,"") -> 71500 | G53: =[1]Расчет_металла!AD47 -> 246.33333 | I53: =[1]Лист1!Y17 -> 32*32*4 | J53: =[1]Лист1!Z17 -> 6 | K53: =[1]Лист1!AA17 -> 103900 | L53: =IF(ISNUMBER(K53),K53-500,"") -> 103400 | M53: =IF(ISNUMBER(K53),K53-1300,"") -> 102600 | N53: =IF(ISNUMBER(K53),K53-2400,"") -> 101500 | O53: =[1]Лист1!AE17 -> 199.14167
A54: =[1]Расчет_металла!X48 -> 40(1,5)*3,5 | B54: =[1]Расчет_металла!Y48 -> 6 \ 10,5 | C54: =[1]Расчет_металла!Z48 -> 73900 | D54: =IF(ISNUMBER(C54),C54-500,"") -> 73400 | E54: =IF(ISNUMBER(C54),C54-1300,"") -> 72600 | F54: =IF(ISNUMBER(C54),C54-2400,"") -> 71500 | G54: =[1]Расчет_металла!AD48 -> 283.28333 | I54: =[1]Лист1!Y18 -> 35*35*3 | J54: =[1]Лист1!Z18 -> 6 | K54: =[1]Лист1!AA18 -> 103900 | L54: =IF(ISNUMBER(K54),K54-500,"") -> 103400 | M54: =IF(ISNUMBER(K54),K54-1300,"") -> 102600 | N54: =IF(ISNUMBER(K54),K54-2400,"") -> 101500 | O54: =[1]Лист1!AE18 -> 173.16667
A55: =[1]Расчет_металла!X49 -> 50(2 дюйма)*3 | B55: =[1]Расчет_металла!Y49 -> 6 \ \ | C55: =[1]Расчет_металла!Z49 -> 73900 | D55: =IF(ISNUMBER(C55),C55-500,"") -> 73400 | E55: =IF(ISNUMBER(C55),C55-1300,"") -> 72600 | F55: =IF(ISNUMBER(C55),C55-2400,"") -> 71500 | G55: =[1]Расчет_металла!AD49 -> 311.61167 | I55: =[1]Лист1!Y19 -> 35*35*4 | J55: =[1]Лист1!Z19 -> 6 | K55: =[1]Лист1!AA19 -> 101500 | L55: =IF(ISNUMBER(K55),K55-500,"") -> 101000 | M55: =IF(ISNUMBER(K55),K55-1300,"") -> 100200 | N55: =IF(ISNUMBER(K55),K55-2400,"") -> 99100 | O55: =[1]Лист1!AE19 -> 224.99167
A56: =[1]Расчет_металла!X50 -> 50(2дюйма)*3,5 | B56: =[1]Расчет_металла!Y50 -> 6 \ | C56: =[1]Расчет_металла!Z50 -> 73900 | D56: =IF(ISNUMBER(C56),C56-500,"") -> 73400 | E56: =IF(ISNUMBER(C56),C56-1300,"") -> 72600 | F56: =IF(ISNUMBER(C56),C56-2400,"") -> 71500 | G56: =[1]Расчет_металла!AD50 -> 360.87833 | I56: =[1]Лист1!Y20 -> 40*40*3 | J56: =[1]Лист1!Z20 -> 6 \ 12 | K56: =[1]Лист1!AA20 -> 99400 | L56: =IF(ISNUMBER(K56),K56-500,"") -> 98900 | M56: =IF(ISNUMBER(K56),K56-1300,"") -> 98100 | N56: =IF(ISNUMBER(K56),K56-2400,"") -> 97000 | O56: =[1]Лист1!AE20 -> 207.08333
I57: =[1]Лист1!Y21 -> 40*40*4 | J57: =[1]Лист1!Z21 -> 6 \ 12 | K57: =[1]Лист1!AA21 -> 86900 | L57: =IF(ISNUMBER(K57),K57-500,"") -> 86400 | M57: =IF(ISNUMBER(K57),K57-1300,"") -> 85600 | N57: =IF(ISNUMBER(K57),K57-2400,"") -> 84500 | O57: =[1]Лист1!AE21 -> 227.38833
...

Sheet Металлопрокат_2
A1: ООО «СтройОптТоргСервис» | J1: ВНИМАНИЕ! Уважаемые покупатели, цены действительны при оплате наличными или по СБП, при оплате картой стоимость увеличивается на 2,5%
A2: г.Самара, ул.Береговая, 3
A3: Тел.: (846)955-05-00, 955-09-46, 955-19-09, 8-917-157-81-78, 8-917-157-81-76
A4: E-mail: sots63@yandex.ru www.sots-samara.com
A6: Диаметр | B6: Длина | C6: Цена | D6: Цена | E6: Цена | F6: Цена | G6: Цена | I6: Размер | J6: Цена | K6: Цена | L6: Цена | M6: Цена | N6: Цена
A7: мм | B7: метр | C7: 0тн-0,2тн | D7: 0,3тн-1тн | E7: 1тн-2тн | F7: 2тн-3тн | G7: м/п | I7: мм | J7: 0тн-0,5тн | K7: от 0,5тн | L7: 1тн-2тн | M7: 2тн-3тн | N7: 1 шт
A8: Арматура А-3 (А500С-400С) | I8: Лист г/к Ст3сп ГОСТ 16523-97
A9: =[1]Лист1!Y44 -> 6 | B9: =[1]Лист1!Z44 -> 6 | C9: =[1]Лист1!AA44 -> 97900 | D9: =[1]Лист1!AB44 | E9: =[1]Лист1!AC44 -> 97400 | F9: =[1]Лист1!AD44 -> 95500 | G9: =[1]Лист1!AE44 -> 22.517 | I9: =[1]Расчет_металла!X276 -> 1,5*1250*2500 | J9: =[1]Расчет_металла!Z276 -> 84200 | K9: =[1]Расчет_металла!AA276 | L9: =[1]Расчет_металла!AB276 -> 83000 | M9: =[1]Расчет_металла!AC276 -> 81400 | N9: =[1]Расчет_металла!AD276 -> 3300.64
A10: =[1]Лист1!Y45 -> 8 | B10: =[1]Лист1!Z45 -> 6 11,7 | C10: =[1]Лист1!AA45 -> 97000 | D10: =[1]Лист1!AB45 | E10: =[1]Лист1!AC45 -> 96500 | F10: =[1]Лист1!AD45 -> 94600 | G10: =[1]Лист1!AE45 -> 40.643 | I10: =[1]Расчет_металла!X277 -> 2*1000*2200 | J10: =[1]Расчет_металла!Z277 -> 75900 | K10: =[1]Расчет_металла!AA277 | L10: =[1]Расчет_металла!AB277 -> 74700 | M10: =[1]Расчет_металла!AC277 -> 73100 | N10: =[1]Расчет_металла!AD277 -> 2793.12
A11: =[1]Лист1!Y46 -> 10 | B11: =[1]Лист1!Z46 -> 6 11,7 12 | C11: =[1]Лист1!AA46 -> 93800 | D11: =[1]Лист1!AB46 -> 88700 | E11: =[1]Лист1!AC46 -> 88200 | F11: =[1]Лист1!AD46 -> 86300 | G11: =[1]Лист1!AE46 -> 59.0742 | I11: =[1]Расчет_металла!X278 -> 2*1250*2500 | J11: =[1]Расчет_металла!Z278 -> 99800 | K11: =[1]Расчет_металла!AA278 -> 75900 | L11: =[1]Расчет_металла!AB278 -> 74700 | M11: =[1]Расчет_металла!AC278 -> 73100 | N11: =[1]Расчет_металла!AD278 -> 5109.76
A12: =[1]Лист1!Y47 -> 12 | B12: =[1]Лист1!Z47 -> 11,7 | C12: =[1]Лист1!AA47 -> 82900 | D12: =[1]Лист1!AB47 | E12: =[1]Лист1!AC47 -> 82400 | F12: =[1]Лист1!AD47 -> 80500 | G12: =[1]Лист1!AE47 -> 77.2628 | I12: =[1]Расчет_металла!X279 -> 2,5*1250*2500 | J12: =[1]Расчет_металла!Z279 -> 74500 | K12: =[1]Расчет_металла!AA279 | L12: =[1]Расчет_металла!AB279 -> 73300 | M12: =[1]Расчет_металла!AC279 -> 71700 | N12: =[1]Расчет_металла!AD279 -> 4708.4
A13: =[1]Лист1!Y48 -> 14 | B13: =[1]Лист1!Z48 -> 11,7 | C13: =[1]Лист1!AA48 -> 80300 | D13: =[1]Лист1!AB48 | E13: =[1]Лист1!AC48 -> 79800 | F13: =[1]Лист1!AD48 -> 77900 | G13: =[1]Лист1!AE48 -> 100.2144 | I13: =[1]Расчет_металла!X280 -> 3*1250*2500 | J13: =[1]Расчет_металла!Z280 -> 72600 | K13: =[1]Расчет_металла!AA280 | L13: =[1]Расчет_металла!AB280 -> 71400 | M13: =[1]Расчет_металла!AC280 -> 69800 | N13: =[1]Расчет_металла!AD280 -> 5626.5
A14: =[1]Лист1!Y49 -> 16 | B14: =[1]Лист1!Z49 -> 11,7 | C14: =[1]Лист1!AA49 -> 79800 | D14: =[1]Лист1!AB49 | E14: =[1]Лист1!AC49 -> 79300 | F14: =[1]Лист1!AD49 -> 77400 | G14: =[1]Лист1!AE49 -> 126.084 | I14: =[1]Расчет_металла!X281 -> 3*1500*6000 | J14: =[1]Расчет_металла!Z281 | K14: =[1]Расчет_металла!AA281 | L14: =[1]Расчет_металла!AB281 | M14: =[1]Расчет_металла!AC281 | N14: =[1]Расчет_металла!AD281
A15: =[1]Лист1!Y50 -> 18 | B15: =[1]Лист1!Z50 -> 11,7 | C15: =[1]Лист1!AA50 -> 79700 | D15: =[1]Лист1!AB50 | E15: =[1]Лист1!AC50 -> 79200 | F15: =[1]Лист1!AD50 -> 77300 | G15: =[1]Лист1!AE50 -> 165.5369 | I15: =[1]Расчет_металла!X282 -> 4*1500*6000 | J15: =[1]Расчет_металла!Z282 -> 72500 | K15: =[1]Расчет_металла!AA282 | L15: =[1]Расчет_металла!AB282 -> 71300 | M15: =[1]Расчет_металла!AC282 -> 69700 | N15: =[1]Расчет_металла!AD282 -> 20662.5
A16: =[1]Лист1!Y51 -> 20 | B16: =[1]Лист1!Z51 -> 11,7 | C16: =[1]Лист1!AA51 -> 79800 | D16: =[1]Лист1!AB51 | E16: =[1]Лист1!AC51 -> 79300 | F16: =[1]Лист1!AD51 -> 77400 | G16: =[1]Лист1!AE51 -> 204.6072 | I16: =[1]Расчет_металла!X283 -> 4*1500*6000 | J16: =[1]Расчет_металла!Z283 -> 72500 | K16: =[1]Расчет_металла!AA283 | L16: =[1]Расчет_металла!AB283 -> 71300 | M16: =[1]Расчет_металла!AC283 -> 69700 | N16: =[1]Расчет_металла!AD283 -> 21170
A17: =[1]Лист1!Y52 -> 25 | B17: =[1]Лист1!Z52 -> 11,7 | C17: =[1]Лист1!AA52 | D17: =[1]Лист1!AB52 | E17: =[1]Лист1!AC52 | F17: =[1]Лист1!AD52 | G17: =[1]Лист1!AE52 | I17: =[1]Расчет_металла!X284 -> 5*1500*3000 | J17: =[1]Расчет_металла!Z284 -> 72500 | K17: =[1]Расчет_металла!AA284 | L17: =[1]Расчет_металла!AB284 -> 71300 | M17: =[1]Расчет_металла!AC284 -> 69700 | N17: =[1]Расчет_металла!AD284 -> 12760
A18: =[1]Лист1!Y53 -> 28 | B18: =[1]Лист1!Z53 -> 11,7 | C18: =[1]Лист1!AA53 | D18: =[1]Лист1!AB53 | E18: =[1]Лист1!AC53 | F18: =[1]Лист1!AD53 | G18: =[1]Лист1!AE53 | I18: =[1]Расчет_металла!X285 -> 5*1500*6000 | J18: =[1]Расчет_металла!Z285 -> 72500 | K18: =[1]Расчет_металла!AA285 | L18: =[1]Расчет_металла!AB285 -> 71300 | M18: =[1]Расчет_металла!AC285 -> 69700 | N18: =[1]Расчет_металла!AD285 -> 26607.5
A19: Арматура А-1 Ст3 круг | I19: =[1]Расчет_металла!X286 -> 5*1500*6000 | J19: =[1]Расчет_металла!Z286 -> 72500 | K19: =[1]Расчет_металла!AA286 | L19: =[1]Расчет_металла!AB286 -> 71300 | M19: =[1]Расчет_металла!AC286 -> 69700 | N19: =[1]Расчет_металла!AD286 -> 26462.5
A20: =[1]Лист1!Y57 -> 6 | B20: =[1]Лист1!Z57 -> 6 бух | C20: =[1]Лист1!AA57 -> 96000 | D20: =[1]Лист1!AB57 | E20: =[1]Лист1!AC57 -> 95500 | F20: =[1]Лист1!AD57 -> 93600 | G20: =[1]Лист1!AE57 -> 25.6 | I20: =[1]Расчет_металла!X287 -> 6*1500*3000 | J20: =[1]Расчет_металла!Z287 | K20: =[1]Расчет_металла!AA287 | L20: =[1]Расчет_металла!AB287 | M20: =[1]Расчет_металла!AC287 | N20: =[1]Расчет_металла!AD287
A21: =[1]Лист1!Y58 -> 8 | B21: =[1]Лист1!Z58 -> 6 бух | C21: =[1]Лист1!AA58 -> 96000 | D21: =[1]Лист1!AB58 | E21: =[1]Лист1!AC58 -> 95500 | F21: =[1]Лист1!AD58 -> 93600 | G21: =[1]Лист1!AE58 -> 38.4 | I21: =[1]Расчет_металла!X288 -> 6*1500*6000 | J21: =[1]Расчет_металла!Z288 -> 74300 | K21: =[1]Расчет_металла!AA288 -> 72500 | L21: =[1]Расчет_металла!AB288 -> 71300 | M21: =[1]Расчет_металла!AC288 -> 69700 | N21: =[1]Расчет_металла!AD288 -> 32394.8
A22: =[1]Лист1!Y59 -> 10 | B22: =[1]Лист1!Z59 -> 6 11,7 | C22: =[1]Лист1!AA59 -> 88900 | D22: =[1]Лист1!AB59 | E22: =[1]Лист1!AC59 -> 88400 | F22: =[1]Лист1!AD59 -> 86500 | G22: =[1]Лист1!AE59 -> 54.821667 | I22: =[1]Расчет_металла!X289 -> 8*1500*6000 | J22: =[1]Расчет_металла!Z289 -> 81600 | K22: =[1]Расчет_металла!AA289 -> 73300 | L22: =[1]Расчет_металла!AB289 -> 72100 | M22: =[1]Расчет_металла!AC289 -> 70500 | N22: =[1]Расчет_металла!AD289 -> 46348.8
A23: =[1]Лист1!Y60 -> 12 | B23: =[1]Лист1!Z60 -> 6 11,7 | C23: =[1]Лист1!AA60 -> 86100 | D23: =[1]Лист1!AB60 | E23: =[1]Лист1!AC60 -> 85600 | F23: =[1]Лист1!AD60 -> 83700 | G23: =[1]Лист1!AE60 -> 77.49 | I23: =[1]Расчет_металла!X290 -> 10*1500*3000 | J23: =[1]Расчет_металла!Z290 -> 74400 | K23: =[1]Расчет_металла!AA290 | L23: =[1]Расчет_металла!AB290 -> 73200 | M23: =[1]Расчет_металла!AC290 -> 71600 | N23: =[1]Расчет_металла!AD290 -> 25668
A24: =[1]Лист1!Y61 -> 14 | B24: =[1]Лист1!Z61 -> 11,7 12 | C24: =[1]Лист1!AA61 -> 83500 | D24: =[1]Лист1!AB61 | E24: =[1]Лист1!AC61 -> 83000 | F24: =[1]Лист1!AD61 -> 81100 | G24: =[1]Лист1!AE61 -> 102.05556 | I24: =[1]Расчет_металла!X291 -> 10*1500*6000 | J24: =[1]Расчет_металла!Z291 -> 74400 | K24: =[1]Расчет_металла!AA291 -> 72500 | L24: =[1]Расчет_металла!AB291 -> 71300 | M24: =[1]Расчет_металла!AC291 -> 69700 | N24: =[1]Расчет_металла!AD291 -> 53344.8
A25: =[1]Лист1!Y62 -> 16 | B25: =[1]Лист1!Z62 -> 11,7 | C25: =[1]Лист1!AA62 -> 83500 | D25: =[1]Лист1!AB62 | E25: =[1]Лист1!AC62 -> 83000 | F25: =[1]Лист1!AD62 -> 81100 | G25: =[1]Лист1!AE62 -> 132.74359 | I25: =[1]Расчет_металла!X292 -> 10*2000*6000 | J25: =[1]Расчет_металла!Z292 | K25: =[1]Расчет_металла!AA292 | L25: =[1]Расчет_металла!AB292 | M25: =[1]Расчет_металла!AC292 | N25: =[1]Расчет_металла!AD292
A26: =[1]Лист1!Y63 -> 18 | B26: =[1]Лист1!Z63 -> 11,7 | C26: =[1]Лист1!AA63 -> 83500 | D26: =[1]Лист1!AB63 | E26: =[1]Лист1!AC63 -> 83000 | F26: =[1]Лист1!AD63 -> 81100 | G26: =[1]Лист1!AE63 -> 167.71368 | I26: =[1]Расчет_металла!X293 -> 12*1500*6000 | J26: =[1]Расчет_металла!Z293 -> 72500 | K26: =[1]Расчет_металла!AA293 | L26: =[1]Расчет_металла!AB293 -> 71300 | M26: =[1]Расчет_металла!AC293 -> 69700 | N26: =[1]Расчет_металла!AD293 -> 61770
A27: =[1]Лист1!Y64 -> 20 | B27: =[1]Лист1!Z64 -> 11,7 | C27: =[1]Лист1!AA64 -> 83600 | D27: =[1]Лист1!AB64 | E27: =[1]Лист1!AC64 -> 83100 | F27: =[1]Лист1!AD64 -> 81200 | G27: =[1]Лист1!AE64 -> 207.21368 | I27: =[1]Расчет_металла!X294 -> 14*1500*6000 | J27: =[1]Расчет_металла!Z294 -> 73300 | K27: =[1]Расчет_металла!AA294 | L27: =[1]Расчет_металла!AB294 -> 72100 | M27: =[1]Расчет_металла!AC294 -> 70500 | N27: =[1]Расчет_металла!AD294 -> 72713.6
A28: =[1]Лист1!Y65 -> 22 | B28: =[1]Лист1!Z65 -> 11,7 | C28: =[1]Лист1!AA65 -> 82300 | D28: =[1]Лист1!AB65 | E28: =[1]Лист1!AC65 -> 81800 | F28: =[1]Лист1!AD65 -> 79900 | G28: =[1]Лист1!AE65 -> 246.9 | I28: =[1]Расчет_металла!X295 -> 16*1500*6000 | J28: =[1]Расчет_металла!Z295 -> 73900 | K28: =[1]Расчет_металла!AA295 | L28: =[1]Расчет_металла!AB295 -> 72700 | M28: =[1]Расчет_металла!AC295 -> 71100 | N28: =[1]Расчет_металла!AD295 -> 84024.3
A29: Балка ГОСТ 8239-89 | I29: =[1]Расчет_металла!X296 -> 20*1500*6000 | J29: =[1]Расчет_металла!Z296 -> 83100 | K29: =[1]Расчет_металла!AA296 -> 76200 | L29: =[1]Расчет_металла!AB296 -> 75000 | M29: =[1]Расчет_металла!AC296 -> 73400 | N29: =[1]Расчет_металла!AD296 -> 118666.8
A30: =[1]Расчет_металла!X236 -> 14Б1 | B30: =[1]Расчет_металла!Y236 -> 11.7 | C30: =[1]Расчет_металла!Z236 -> 121800 | D30: =[1]Расчет_металла!AA236 | E30: =[1]Расчет_металла!AB236 -> 120500 | F30: =[1]Расчет_металла!AC236 -> 119400 | G30: =[1]Расчет_металла!AD236 -> 1290.8718 | I30: =[1]Расчет_металла!X297 -> 20*2000*6000 | J30: =[1]Расчет_металла!Z297 | K30: =[1]Расчет_металла!AA297 | L30: =[1]Расчет_металла!AB297 | M30: =[1]Расчет_металла!AC297 | N30: =[1]Расчет_металла!AD297
A31: =[1]Расчет_металла!X238 -> 16Б1 | B31: =[1]Расчет_металла!Y238 -> 12 | C31: =[1]Расчет_металла!Z238 -> 122900 | D31: =[1]Расчет_металла!AA238 | E31: =[1]Расчет_металла!AB238 -> 121600 | F31: =[1]Расчет_металла!AC238 -> 120500 | G31: =[1]Расчет_металла!AD238 -> 1566.975 | I31: =[1]Расчет_металла!X298 -> 25*1500*6000 | J31: =[1]Расчет_металла!Z298 | K31: =[1]Расчет_металла!AA298 | L31: =[1]Расчет_металла!AB298 | M31: =[1]Расчет_металла!AC298 | N31: =[1]Расчет_металла!AD298
A32: =[1]Расчет_металла!X240 -> 18Б1 | B32: =[1]Расчет_металла!Y240 -> 12 | C32: =[1]Расчет_металла!Z240 -> 122900 | D32: =[1]Расчет_металла!AA240 | E32: =[1]Расчет_металла!AB240 -> 121600 | F32: =[1]Расчет_металла!AC240 -> 120500 | G32: =[1]Расчет_металла!AD240 -> 1894.7083 | I32: =[1]Расчет_металла!X299 -> 30*1500*6000 | J32: =[1]Расчет_металла!Z299 -> 85500 | K32: =[1]Расчет_металла!AA299 -> 76300 | L32: =[1]Расчет_металла!AB299 -> 75100 | M32: =[1]Расчет_металла!AC299 -> 73500 | N32: =[1]Расчет_металла!AD299 -> 184680
A33: =[1]Расчет_металла!X241 -> 18 | B33: =[1]Расчет_металла!Y241 -> 12 | C33: =[1]Расчет_металла!Z241 -> 122900 | D33: =[1]Расчет_металла!AA241 | E33: =[1]Расчет_металла!AB241 -> 121600 | F33: =[1]Расчет_металла!AC241 -> 120500 | G33: =[1]Расчет_металла!AD241 -> 2255.215 | I33: Лист х/к ст 08пс ГОСТ 16523-97 1шт
A34: =[1]Расчет_металла!X242 -> 20Б1 | B34: =[1]Расчет_металла!Y242 -> 12 | C34: =[1]Расчет_металла!Z242 -> 106900 | D34: =[1]Расчет_металла!AA242 -> 98200 | E34: =[1]Расчет_металла!AB242 -> 96900 | F34: =[1]Расчет_металла!AC242 -> 95800 | G34: =[1]Расчет_металла!AD242 -> 2281.4242 | I34: =[1]Расчет_металла!X305 -> 0,5*1250*2500 | J34: =[1]Расчет_металла!Z305 -> 89500 | K34: =[1]Расчет_металла!AA305 -> 81300 | L34: =[1]Расчет_металла!AB305 -> 80100 | M34: =[1]Расчет_металла!AC305 -> 78500 | N34: =[1]Расчет_металла!AD305 -> 1163.5
A35: =[1]Расчет_металла!X243 -> 25Б1 | B35: =[1]Расчет_металла!Y243 -> 12 | C35: =[1]Расчет_металла!Z243 -> 98700 | D35: =[1]Расчет_металла!AA243 -> 88900 | E35: =[1]Расчет_металла!AB243 -> 87600 | F35: =[1]Расчет_металла!AC243 -> 86500 | G35: =[1]Расчет_металла!AD243 -> 2536.59 | I35: =[1]Расчет_металла!X306 -> 0,7*1250*2500 | J35: =[1]Расчет_металла!Z306 -> 80900 | K35: =[1]Расчет_металла!AA306 | L35: =[1]Расчет_металла!AB306 -> 79700 | M35: =[1]Расчет_металла!AC306 -> 78100 | N35: =[1]Расчет_металла!AD306 -> 1456.2
A36: =[1]Расчет_металла!X244 -> 30 | B36: =[1]Расчет_металла!Y244 -> 12 | C36: =[1]Расчет_металла!Z244 -> 89800 | D36: =[1]Расчет_металла!AA244 | E36: =[1]Расчет_металла!AB244 -> 88500 | F36: =[1]Расчет_металла!AC244 -> 87400 | G36: =[1]Расчет_металла!AD244 -> 3276.9517 | I36: =[1]Расчет_металла!X307 -> 0,8*1250*2500 | J36: =[1]Расчет_металла!Z307 -> 80900 | K36: =[1]Расчет_металла!AA307 | L36: =[1]Расчет_металла!AB307 -> 79700 | M36: =[1]Расчет_металла!AC307 -> 78100 | N36: =[1]Расчет_металла!AD307 -> 1618
A37: Шестигранник Ст 45 ГОСТ 2879-88 | I37: =[1]Расчет_металла!X308 -> 1,0*1250*2500 | J37: =[1]Расчет_металла!Z308 -> 81900 | K37: =[1]Расчет_металла!AA308 -> 78500 | L37: =[1]Расчет_металла!AB308 -> 77300 | M37: =[1]Расчет_металла!AC308 -> 75700 | N37: =[1]Расчет_металла!AD308 -> 2047.5
A38: =[1]Лист1!Y4 -> 10 | B38: =[1]Лист1!Z4 -> 6 | C38: =[1]Лист1!AA4 -> 69800 | D38: =[1]Лист1!AB4 | E38: =[1]Лист1!AC4 -> 69300 | F38: =[1]Лист1!AD4 -> 67400 | G38: =[1]Лист1!AE4 -> 47.696667 | I38: =[1]Расчет_металла!X309 -> 1,2*1250*2500 | J38: =[1]Расчет_металла!Z309 -> 79000 | K38: =[1]Расчет_металла!AA309 | L38: =[1]Расчет_металла!AB309 -> 77800 | M38: =[1]Расчет_металла!AC309 -> 76200 | N38: =[1]Расчет_металла!AD309 -> 2370
A39: =[1]Лист1!Y5 -> 14 | B39: =[1]Лист1!Z5 -> 6,05 | C39: =[1]Лист1!AA5 -> 69800 | D39: =[1]Лист1!AB5 | E39: =[1]Лист1!AC5 -> 69300 | F39: =[1]Лист1!AD5 -> 67400 | G39: =[1]Лист1!AE5 -> 92.297521 | I39: =[1]Расчет_металла!X310 -> 1,5*1250*2500 | J39: =[1]Расчет_металла!Z310 -> 89900 | K39: =[1]Расчет_металла!AA310 -> 80800 | L39: =[1]Расчет_металла!AB310 -> 79600 | M39: =[1]Расчет_металла!AC310 -> 78000 | N39: =[1]Расчет_металла!AD310 -> 3326.3
A40: =[1]Лист1!Y6 -> 17 | B40: =[1]Лист1!Z6 -> 6,05 | C40: =[1]Лист1!AA6 -> 69800 | D40: =[1]Лист1!AB6 | E40: =[1]Лист1!AC6 -> 69300 | F40: =[1]Лист1!AD6 -> 67400 | G40: =[1]Лист1!AE6 -> 137.29256 | I40: =[1]Расчет_металла!X311 -> 2*1250*2500 | J40: =[1]Расчет_металла!Z311 -> 92900 | K40: =[1]Расчет_металла!AA311 -> 89900 | L40: =[1]Расчет_металла!AB311 -> 88700 | M40: =[1]Расчет_металла!AC311 -> 87100 | N40: =[1]Расчет_металла!AD311 -> 4645
A41: =[1]Лист1!Y7 -> 19 | B41: =[1]Лист1!Z7 -> 6,05 | C41: =[1]Лист1!AA7 -> 69800 | D41: =[1]Лист1!AB7 | E41: =[1]Лист1!AC7 -> 69300 | F41: =[1]Лист1!AD7 -> 67400 | G41: =[1]Лист1!AE7 -> 170.75041 | I41: =[1]Расчет_металла!X312 -> 3*1250*2500 | J41: =[1]Расчет_металла!Z312 -> 93700 | K41: =[1]Расчет_металла!AA312 -> 92600 | L41: =[1]Расчет_металла!AB312 -> 91400 | M41: =[1]Расчет_металла!AC312 -> 89800 | N41: =[1]Расчет_металла!AD312 -> 7027.5
...

Sheet Круги
B1: ООО «СтройОптТоргСервис»
B2: г.Самара, ул.Береговая, 3
B3: Тел.: (846)955-05-00, 955-09-46, 955-19-09, 8-917-157-81-78, 8-917-157-81-76
B4: E-mail: sots63@yandex.ru www.sots-samara.com
B5: ВНИМАНИЕ! Уважаемые покупатели, цены действительны при оплате наличными или по СБП, при оплате картой стоимость увеличивается на 2,5%
B6: Прокат горячекатаный круглого сечения (КРУГ ГОСТ 2590-2006 ИЖСТАЛЬ г.ИЖЕВСК)
B7: Размер | C7: Длина | D7: Цена | E7: Цена | F7: Цена
C8: метр | D8: 0тн-0,2тн | E8: 0,2тн-0,5тн | F8: м/п
B9: =[1]Расчет_металла!X353 -> д.20 СТ.3 | C9: =[1]Расчет_металла!Y353 -> 6 | D9: =[1]Расчет_металла!Z353 -> 79900 | E9: =[1]Расчет_металла!AA353 | F9: =[1]Расчет_металла!AD353 -> 213.06667
B10: =[1]Расчет_металла!X354 -> д.20 СТ.20 | C10: =[1]Расчет_металла!Y354 -> 6 | D10: =[1]Расчет_металла!Z354 -> 79900 | E10: =[1]Расчет_металла!AA354 | F10: =[1]Расчет_металла!AD354 -> 205.07667
B11: =[1]Расчет_металла!X355 -> д.20 СТ.45 | C11: =[1]Расчет_металла!Y355 -> 5,85 | D11: =[1]Расчет_металла!Z355 | E11: =[1]Расчет_металла!AA355 | F11: =[1]Расчет_металла!AD355
B12: =[1]Расчет_металла!X356 -> д.22 СТ.20 | C12: =[1]Расчет_металла!Y356 -> 6 | D12: =[1]Расчет_металла!Z356 -> 80700 | E12: =[1]Расчет_металла!AA356 -> 79900 | F12: =[1]Расчет_металла!AD356 -> 264.965
B13: =[1]Расчет_металла!X357 -> д.22 СТ.40Х | C13: =[1]Расчет_металла!Y357 -> 5,83 | D13: =[1]Расчет_металла!Z357 | E13: =[1]Расчет_металла!AA357 | F13: =[1]Расчет_металла!AD357
B14: =[1]Расчет_металла!X358 -> д.24 СТ.3 | C14: =[1]Расчет_металла!Y358 -> 5,8 6 | D14: =[1]Расчет_металла!Z358 -> 79900 | E14: =[1]Расчет_металла!AA358 | F14: =[1]Расчет_металла!AD358 -> 287.91552
B15: =[1]Расчет_металла!X359 -> д.24 СТ.20 | C15: =[1]Расчет_металла!Y359 -> 5,8 \ 5,85 | D15: =[1]Расчет_металла!Z359 | E15: =[1]Расчет_металла!AA359 | F15: =[1]Расчет_металла!AD359
B16: =[1]Расчет_металла!X360 -> д.24 СТ.45 | C16: =[1]Расчет_металла!Y360 -> 5,85 | D16: =[1]Расчет_металла!Z360 | E16: =[1]Расчет_металла!AA360 | F16: =[1]Расчет_металла!AD360
B17: =[1]Расчет_металла!X361 -> д.25 СТ.3 | C17: =[1]Расчет_металла!Y361 -> 5,8 6 | D17: =[1]Расчет_металла!Z361 -> 79900 | E17: =[1]Расчет_металла!AA361 | F17: =[1]Расчет_металла!AD361 -> 327.86552
B18: =[1]Расчет_металла!X362 -> д.25 СТ.20 | C18: =[1]Расчет_металла!Y362 -> 5,84 | D18: =[1]Расчет_металла!Z362 -> 79900 | E18: =[1]Расчет_металла!AA362 | F18: =[1]Расчет_металла!AD362 -> 343.40582
B19: =[1]Расчет_металла!X363 -> д.25 СТ.45 | C19: =[1]Расчет_металла!Y363 -> 5,8 \ 5,82 | D19: =[1]Расчет_металла!Z363 | E19: =[1]Расчет_металла!AA363 | F19: =[1]Расчет_металла!AD363
B20: =[1]Расчет_металла!X364 -> д.30 СТ.3 | C20: =[1]Расчет_металла!Y364 -> 6 | D20: =[1]Расчет_металла!Z364 -> 80600 | E20: =[1]Расчет_металла!AA364 | F20: =[1]Расчет_металла!AD364 -> 468.82333
... B57: =[1]Расчет_металла!X401 -> д.150 ст.20 | C57: =[1]Расчет_металла!Y401 -> 3,8 \ 3,31 | D57: =[1]Расчет_металла!Z401 -> 79900 | E57: =[1]Расчет_металла!AA401 | F57: =[1]Расчет_металла!AD401 -> 11106.1

Sheet 04082026
